BEGIN:VCALENDAR
VERSION:2.0
PRODID:-//ChamberMaster//Event Calendar 2.0//EN
METHOD:PUBLISH
X-PUBLISHED-TTL:P3D
REFRESH-INTERVAL:P3D
CALSCALE:GREGORIAN
BEGIN:VEVENT
DTSTART:20190720T180000Z
DTEND:20190721T050000Z
X-MICROSOFT-CDO-ALLDAYEVENT:FALSE
SUMMARY:Christmas in July
DESCRIPTION:The season of giving is all year long at Steam Donkey Brewing. \n\nNew beer releases\, live music from 3-5pm and holiday cookies.\n\nBring in an unwrapped toy or stuffed teddy bear to donate for Toys for Tots and the Teddy Bear Officers and receive discounts on merch and Steam Donkey gear!
X-ALT-DESC;FMTTYPE=text/html:<span style="caret-color: rgb(29\, 33\, 41)\; color: rgb(29\, 33\, 41)\; font-family: system-ui\, -apple-system\, BlinkMacSystemFont\, &quot\;.SFNSText-Regular&quot\;\, sans-serif\; font-size: 14px\; white-space: pre-wrap\;">The season of giving is all year long at Steam Donkey Brewing. </span><br style="caret-color: rgb(29\, 33\, 41)\; color: rgb(29\, 33\, 41)\; font-family: system-ui\, -apple-system\, BlinkMacSystemFont\, &quot\;.SFNSText-Regular&quot\;\, sans-serif\; font-size: 14px\; white-space: pre-wrap\;" />\n<span style="caret-color: rgb(29\, 33\, 41)\; color: rgb(29\, 33\, 41)\; font-family: system-ui\, -apple-system\, BlinkMacSystemFont\, &quot\;.SFNSText-Regular&quot\;\, sans-serif\; font-size: 14px\; white-space: pre-wrap\;">New beer releases\, live music from 3-5pm and holiday cookies.</span><br style="caret-color: rgb(29\, 33\, 41)\; color: rgb(29\, 33\, 41)\; font-family: system-ui\, -apple-system\, BlinkMacSystemFont\, &quot\;.SFNSText-Regular&quot\;\, sans-serif\; font-size: 14px\; white-space: pre-wrap\;" />\n<span style="caret-color: rgb(29\, 33\, 41)\; color: rgb(29\, 33\, 41)\; font-family: system-ui\, -apple-system\, BlinkMacSystemFont\, &quot\;.SFNSText-Regular&quot\;\, sans-serif\; font-size: 14px\; white-space: pre-wrap\;">Bring in an unwrapped toy or stuffed teddy bear to donate for Toys for Tots and the Teddy Bear Officers and receive discounts on merch and Steam Donkey gear!</span>
LOCATION:pin Steam Donkey Brewing Company 101 E Wishkah\, Aberdeen\, Washington 98520
UID:e.26.12095
SEQUENCE:3
DTSTAMP:20260424T115124Z
URL:https://chamber.graysharbor.org/events/details/christmas-in-july-12095
END:VEVENT

END:VCALENDAR
