BEGIN:VCALENDAR
VERSION:2.0
PRODID:-//ChamberMaster//Event Calendar 2.0//EN
METHOD:PUBLISH
X-PUBLISHED-TTL:P3D
REFRESH-INTERVAL:P3D
CALSCALE:GREGORIAN
BEGIN:VEVENT
DTSTART:20181209T210000Z
DTEND:20181209T230000Z
X-MICROSOFT-CDO-ALLDAYEVENT:FALSE
SUMMARY:Christmas Open House with Santa
DESCRIPTION:Please come join the Central Park Firefighters Association and Fire District 2 at the Annual Christmas Open House. There will be arts and crafts activities\, refreshments and of course pictures with Santa. All are welcome to attend.
X-ALT-DESC;FMTTYPE=text/html:<span style="caret-color: rgb(29\, 33\, 41)\; color: rgb(29\, 33\, 41)\; font-family: system-ui\, -apple-system\, BlinkMacSystemFont\, &quot\;.SFNSText-Regular&quot\;\, sans-serif\; font-size: 14px\; background-color: rgb(255\, 255\, 255)\;">Please come join the Central Park Firefighters Association and Fire District 2 at the Annual Christmas Open House. There will be arts and crafts activities\, refreshments and of course pictures with Santa. All are welcome to attend.</span>
LOCATION:Grays Harbor Fire District 2\, Station 2-1 (Central Park)\, 6317 Olympic Highway\, Aberdee
UID:e.26.11365
SEQUENCE:3
DTSTAMP:20260424T210807Z
URL:https://chamber.graysharbor.org/events/details/christmas-open-house-with-santa-11365
END:VEVENT

END:VCALENDAR
