BEGIN:VCALENDAR
VERSION:2.0
PRODID:-//ChamberMaster//Event Calendar 2.0//EN
METHOD:PUBLISH
X-PUBLISHED-TTL:P3D
REFRESH-INTERVAL:P3D
CALSCALE:GREGORIAN
BEGIN:VEVENT
DTSTART:20171222T023000Z
DTEND:20171222T040000Z
X-MICROSOFT-CDO-ALLDAYEVENT:FALSE
SUMMARY:Christmas Story Night in Montesano
DESCRIPTION:Join us at Hands on Health in Montesano as we focus in on the true spirit of Christmas!\n\n\n\nYour family will be welcomed with an open and festive hot cocoa bar\, loaded with lots of fun goodies! \n\n\n\nAs you take your seats in the studio\, under the twinkling lights and around the crackling fireplace and beautiful Christmas tree\, the spirit of Christmas will wash over you and the night will begin! \n\n\n\nOur time together will include a very merry sing-along\, a cozy setting while you are read the original Christmas story\, group caroling led by local Father-Daughter Duo Mike Pavola and Bethany Lawrence\, and a surprise visit from the jolliest elf we know!!!     Each attendee will recieve a printed keepsake booklet to remember the night by. \n\n\n\nSanta will wrap up our night taking time with each boy and girl and parents will be allowed to take their own free pictures or purchase a $5 instant Polaroid photo. \n\n\n\nWe are hoping for an incredible evening together with our community as we focus on both the birth of Christ and fun family tradition. \n\n\n\nWill you and your family join us?
X-ALT-DESC;FMTTYPE=text/html:<span style="color: rgb(75\, 79\, 86)\; font-family: Helvetica\, Arial\, sans-serif\; font-size: 14px\; background-color: rgb(255\, 255\, 255)\;">Join us at Hands on Health in Montesano as we focus in on the true spirit of Christmas!</span><br style="color: rgb(75\, 79\, 86)\; font-family: Helvetica\, Arial\, sans-serif\; font-size: 14px\; background-color: rgb(255\, 255\, 255)\;" />\n<br style="color: rgb(75\, 79\, 86)\; font-family: Helvetica\, Arial\, sans-serif\; font-size: 14px\; background-color: rgb(255\, 255\, 255)\;" />\n<span style="color: rgb(75\, 79\, 86)\; font-family: Helvetica\, Arial\, sans-serif\; font-size: 14px\; background-color: rgb(255\, 255\, 255)\;">Your family will be welcomed with an open and festive hot cocoa bar\, loaded with lots of fun goodies!&nbsp\;</span><br style="color: rgb(75\, 79\, 86)\; font-family: Helvetica\, Arial\, sans-serif\; font-size: 14px\; background-color: rgb(255\, 255\, 255)\;" />\n<br style="color: rgb(75\, 79\, 86)\; font-family: Helvetica\, Arial\, sans-serif\; font-size: 14px\; background-color: rgb(255\, 255\, 255)\;" />\n<span style="color: rgb(75\, 79\, 86)\; font-family: Helvetica\, Arial\, sans-serif\; font-size: 14px\; background-color: rgb(255\, 255\, 255)\;">As you take your seats in the studio\, under the twinkling lights and around the crackling fireplace and beautiful Christmas tree\, the spirit of Christmas will wash over you and the night will begin!&nbsp\;</span><br style="color: rgb(75\, 79\, 86)\; font-family: Helvetica\, Arial\, sans-serif\; font-size: 14px\; background-color: rgb(255\, 255\, 255)\;" />\n<br style="color: rgb(75\, 79\, 86)\; font-family: Helvetica\, Arial\, sans-serif\; font-size: 14px\; background-color: rgb(255\, 255\, 255)\;" />\n<span style="color: rgb(75\, 79\, 86)\; font-family: Helvetica\, Arial\, sans-serif\; font-size: 14px\; background-color: rgb(255\, 255\, 255)\;">Our time together will include a very merry sing-along\, a cozy setting while you are read the original Christmas story\, group caroling led by local Father-Daughter Duo Mike Pavola and Bethany Lawrence\, and a surprise visit from the jolliest elf we know!!! &#127877\; &#129323\; Each attendee will recieve a printed keepsake booklet to remember the night by.&nbsp\;</span><br style="color: rgb(75\, 79\, 86)\; font-family: Helvetica\, Arial\, sans-serif\; font-size: 14px\; background-color: rgb(255\, 255\, 255)\;" />\n<br style="color: rgb(75\, 79\, 86)\; font-family: Helvetica\, Arial\, sans-serif\; font-size: 14px\; background-color: rgb(255\, 255\, 255)\;" />\n<span style="color: rgb(75\, 79\, 86)\; font-family: Helvetica\, Arial\, sans-serif\; font-size: 14px\; background-color: rgb(255\, 255\, 255)\;">Santa will wrap up our night taking time with each boy and girl and parents will be allowed to take their own free pictures or purchase a $5 instant Polaroid photo.&nbsp\;</span><br style="color: rgb(75\, 79\, 86)\; font-family: Helvetica\, Arial\, sans-serif\; font-size: 14px\; background-color: rgb(255\, 255\, 255)\;" />\n<br style="color: rgb(75\, 79\, 86)\; font-family: Helvetica\, Arial\, sans-serif\; font-size: 14px\; background-color: rgb(255\, 255\, 255)\;" />\n<span style="color: rgb(75\, 79\, 86)\; font-family: Helvetica\, Arial\, sans-serif\; font-size: 14px\; background-color: rgb(255\, 255\, 255)\;">We are hoping for an incredible evening together with our community as we focus on both the birth of Christ and fun family tradition.&nbsp\;</span><br style="color: rgb(75\, 79\, 86)\; font-family: Helvetica\, Arial\, sans-serif\; font-size: 14px\; background-color: rgb(255\, 255\, 255)\;" />\n<br style="color: rgb(75\, 79\, 86)\; font-family: Helvetica\, Arial\, sans-serif\; font-size: 14px\; background-color: rgb(255\, 255\, 255)\;" />\n<span style="color: rgb(75\, 79\, 86)\; font-family: Helvetica\, Arial\, sans-serif\; font-size: 14px\; background-color: rgb(255\, 255\, 255)\;">Will you and your family join us?</span>
LOCATION:Hands on Health Montesano\, WA
UID:e.26.9398
SEQUENCE:3
DTSTAMP:20260425T164124Z
URL:https://chamber.graysharbor.org/events/details/christmas-story-night-in-montesano-9398
END:VEVENT

END:VCALENDAR
