BEGIN:VCALENDAR
VERSION:2.0
PRODID:-//ChamberMaster//Event Calendar 2.0//EN
METHOD:PUBLISH
X-PUBLISHED-TTL:P3D
REFRESH-INTERVAL:P3D
CALSCALE:GREGORIAN
BEGIN:VEVENT
DTSTART:20190127T220000Z
DTEND:20190128T000000Z
X-MICROSOFT-CDO-ALLDAYEVENT:FALSE
SUMMARY:Christopher Hall Comic Orchestra
DESCRIPTION:Christopher Hall is the former principal clarinet of the Orchestre Metropolitain in Montreal\, who found work in the orchestra far too serious! So now\, instead of joking around while sitting in the orchestra\, he performs as a stand up comedian with a string quartet. Whatever you do\, DO NOT take this man seriously! Purchase tickets at www.ghc.edu/bishop or (360)-538-4066\n\nJanuary 27\, 2019\n\nSunday\, 2:00 p.m.
X-ALT-DESC;FMTTYPE=text/html:<span style="caret-color: rgb(29\, 33\, 41)\; color: rgb(29\, 33\, 41)\; font-family: system-ui\, -apple-system\, BlinkMacSystemFont\, &quot\;.SFNSText-Regular&quot\;\, sans-serif\; font-size: 14px\; white-space: pre-wrap\; background-color: rgb(255\, 255\, 255)\;">Christopher Hall is the former principal clarinet of the Orchestre Metropolitain in Montreal\, who found work in the orchestra far too serious! So now\, instead of joking around while sitting in the orchestra\, he performs as a stand up comedian with a string quartet. Whatever you do\, DO NOT take this man seriously! Purchase tickets at </span><a data-lynx-mode="hover" href="https://l.facebook.com/l.php?u=http%3A%2F%2Fwww.ghc.edu%2Fbishop%3Ffbclid%3DIwAR1tnHDGTp9JAUdG0NN23cdwglPUVWe3ohoGkiqyECnIMVB9bGjnl7asPEo&amp\;h=AT2YnLII-UROofqG_g2f9Qhjh6I1VGewpuOVd0XfpjBoMVnJPIzF5ec2dUdfiCFB71uA4scQkEV6R4oCTh95oE3YxJWyi1GhWpgBml8vq_3J3a6svT8Kp7zFrH0GrzLnq2ywiSVW-A" rel="nofollow noopener" style="color: rgb(54\, 88\, 153)\; cursor: pointer\; text-decoration: none\; font-family: system-ui\, -apple-system\, BlinkMacSystemFont\, &quot\;.SFNSText-Regular&quot\;\, sans-serif\; font-size: 14px\; white-space: pre-wrap\;" target="_blank">www.ghc.edu/bishop</a><span style="caret-color: rgb(29\, 33\, 41)\; color: rgb(29\, 33\, 41)\; font-family: system-ui\, -apple-system\, BlinkMacSystemFont\, &quot\;.SFNSText-Regular&quot\;\, sans-serif\; font-size: 14px\; white-space: pre-wrap\; background-color: rgb(255\, 255\, 255)\;"> or (360)-538-4066</span><br style="caret-color: rgb(29\, 33\, 41)\; color: rgb(29\, 33\, 41)\; font-family: system-ui\, -apple-system\, BlinkMacSystemFont\, &quot\;.SFNSText-Regular&quot\;\, sans-serif\; font-size: 14px\; white-space: pre-wrap\;" />\n<span style="caret-color: rgb(29\, 33\, 41)\; color: rgb(29\, 33\, 41)\; font-family: system-ui\, -apple-system\, BlinkMacSystemFont\, &quot\;.SFNSText-Regular&quot\;\, sans-serif\; font-size: 14px\; white-space: pre-wrap\; background-color: rgb(255\, 255\, 255)\;">January 27\, 2019</span><br style="caret-color: rgb(29\, 33\, 41)\; color: rgb(29\, 33\, 41)\; font-family: system-ui\, -apple-system\, BlinkMacSystemFont\, &quot\;.SFNSText-Regular&quot\;\, sans-serif\; font-size: 14px\; white-space: pre-wrap\;" />\n<span style="caret-color: rgb(29\, 33\, 41)\; color: rgb(29\, 33\, 41)\; font-family: system-ui\, -apple-system\, BlinkMacSystemFont\, &quot\;.SFNSText-Regular&quot\;\, sans-serif\; font-size: 14px\; white-space: pre-wrap\; background-color: rgb(255\, 255\, 255)\;">Sunday\, 2:00 p.m.</span>
LOCATION:Bishop Center for the Performina Arts Aberdeen\, WA
UID:e.26.11660
SEQUENCE:3
DTSTAMP:20260424T194113Z
URL:https://chamber.graysharbor.org/events/details/christopher-hall-comic-orchestra-11660
END:VEVENT

END:VCALENDAR
