BEGIN:VCALENDAR
VERSION:2.0
PRODID:-//ChamberMaster//Event Calendar 2.0//EN
METHOD:PUBLISH
X-PUBLISHED-TTL:P3D
REFRESH-INTERVAL:P3D
CALSCALE:GREGORIAN
BEGIN:VEVENT
DTSTART;VALUE=DATE:20190207
DTEND;VALUE=DATE:20190211
TRANSP:TRANSPARENT
X-MICROSOFT-CDO-ALLDAYEVENT:TRUE
SUMMARY:Cinderella at the 7th St. Theatre
DESCRIPTION:Rodgers and Hammerstein's Cinderella is a musical being performed by Hoquiam High School's Drama Department. It is based upon the fairy tale Cinderella\, particularly the French version Cendrillon. The story concerns a young woman forced into a life of servitude by her cruel stepmother and self-centered stepsisters\, who dreams of a better life. With the help of her Fairy Godmother\, Cinderella is transformed into a Princess and finds her Prince.
X-ALT-DESC;FMTTYPE=text/html:<span style="caret-color: rgb(29\, 33\, 41)\; color: rgb(29\, 33\, 41)\; font-family: system-ui\, -apple-system\, BlinkMacSystemFont\, &quot\;.SFNSText-Regular&quot\;\, sans-serif\; font-size: 14px\; white-space: pre-wrap\; background-color: rgb(255\, 255\, 255)\;">Rodgers and Hammerstein&rsquo\;s Cinderella is a musical being performed by Hoquiam High School&rsquo\;s Drama Department. It is based upon the fairy tale Cinderella\, particularly the French version Cendrillon. The story concerns a young woman forced into a life of servitude by her cruel stepmother and self-centered stepsisters\, who dreams of a better life. With the help of her Fairy Godmother\, Cinderella is transformed into a Princess and finds her Prince.</span>
LOCATION:7th St. Theatre Hoquiam\, WA
UID:e.26.11635
SEQUENCE:3
DTSTAMP:20260424T181711Z
URL:https://chamber.graysharbor.org/events/details/cinderella-at-the-7th-st-theatre-11635
END:VEVENT

END:VCALENDAR
