BEGIN:VCALENDAR
VERSION:2.0
PRODID:-//ChamberMaster//Event Calendar 2.0//EN
METHOD:PUBLISH
X-PUBLISHED-TTL:P3D
REFRESH-INTERVAL:P3D
CALSCALE:GREGORIAN
BEGIN:VEVENT
DTSTART:20190530T000000Z
DTEND:20190530T040000Z
X-MICROSOFT-CDO-ALLDAYEVENT:FALSE
SUMMARY:Circus in Westport
DESCRIPTION:Come enjoy the show under the big top! Buy pre-sale tickets from the Westport Chamber office or an Ocosta PTO Officer and save! \n\n\n\nThe Culpepper & Merriweather Circus is coming to Westport on May 29! Two shows will be performed under our old-fashioned Big Top!\n\nLocation: The Westport Marina near the TackleBox\n\nShowtimes: 5 & 7:30 (95 minute run time each show) \n\nSponsor: Ocosta Elementary PTO\n\nTickets: Tickets can be purchased at a discounted price ($12 for adults and $7 for children and seniors) before circus day at the Chamber office or from a PTO Officer. \n\n\n\nYou can also call 1-866-BIGTOP-6 during regular business hours for discounted will call tickets. On circus day\, tickets can be purchased at the box office and will be $15 for adults and $8 for children 2-12 and seniors 65 & up. No charge for children under the age of 2. Buy your tickets early and save! A portion of the proceeds will go to support our sponsor --the Ocosta PTO. Our 95 minute family-friendly show features Big Cats\, Unicyclists\, Dogs\, Trapeze\, Horses\, Sword Balancing\, the Wheel of Destiny\, Russian Swing (back by popular demand)\, Contortion and so much more! Visit cmcircus.com to see photos and find out more information on this year's show.
X-ALT-DESC;FMTTYPE=text/html:<span style="caret-color: rgb(29\, 33\, 41)\; color: rgb(29\, 33\, 41)\; font-family: system-ui\, -apple-system\, BlinkMacSystemFont\, &quot\;.SFNSText-Regular&quot\;\, sans-serif\; white-space: pre-wrap\;">Come enjoy the show under the big top! Buy pre-sale tickets from the Westport Chamber office or an Ocosta PTO Officer and save! </span><br style="caret-color: rgb(29\, 33\, 41)\; color: rgb(29\, 33\, 41)\; font-family: system-ui\, -apple-system\, BlinkMacSystemFont\, &quot\;.SFNSText-Regular&quot\;\, sans-serif\; white-space: pre-wrap\;" />\n<br style="caret-color: rgb(29\, 33\, 41)\; color: rgb(29\, 33\, 41)\; font-family: system-ui\, -apple-system\, BlinkMacSystemFont\, &quot\;.SFNSText-Regular&quot\;\, sans-serif\; white-space: pre-wrap\;" />\n<span style="caret-color: rgb(29\, 33\, 41)\; color: rgb(29\, 33\, 41)\; font-family: system-ui\, -apple-system\, BlinkMacSystemFont\, &quot\;.SFNSText-Regular&quot\;\, sans-serif\; white-space: pre-wrap\;">The Culpepper &amp\; Merriweather Circus is coming to Westport on May 29! Two shows will be performed under our old-fashioned Big Top!</span><br style="caret-color: rgb(29\, 33\, 41)\; color: rgb(29\, 33\, 41)\; font-family: system-ui\, -apple-system\, BlinkMacSystemFont\, &quot\;.SFNSText-Regular&quot\;\, sans-serif\; white-space: pre-wrap\;" />\n<span style="caret-color: rgb(29\, 33\, 41)\; color: rgb(29\, 33\, 41)\; font-family: system-ui\, -apple-system\, BlinkMacSystemFont\, &quot\;.SFNSText-Regular&quot\;\, sans-serif\; white-space: pre-wrap\;">Location: The Westport Marina near the TackleBox</span><br style="caret-color: rgb(29\, 33\, 41)\; color: rgb(29\, 33\, 41)\; font-family: system-ui\, -apple-system\, BlinkMacSystemFont\, &quot\;.SFNSText-Regular&quot\;\, sans-serif\; white-space: pre-wrap\;" />\n<span style="caret-color: rgb(29\, 33\, 41)\; color: rgb(29\, 33\, 41)\; font-family: system-ui\, -apple-system\, BlinkMacSystemFont\, &quot\;.SFNSText-Regular&quot\;\, sans-serif\; white-space: pre-wrap\;">Showtimes: 5 &amp\; 7:30 (95 minute run time each show) </span><br style="caret-color: rgb(29\, 33\, 41)\; color: rgb(29\, 33\, 41)\; font-family: system-ui\, -apple-system\, BlinkMacSystemFont\, &quot\;.SFNSText-Regular&quot\;\, sans-serif\; white-space: pre-wrap\;" />\n<span style="caret-color: rgb(29\, 33\, 41)\; color: rgb(29\, 33\, 41)\; font-family: system-ui\, -apple-system\, BlinkMacSystemFont\, &quot\;.SFNSText-Regular&quot\;\, sans-serif\; white-space: pre-wrap\;">Sponsor: Ocosta Elementary PTO</span><br style="caret-color: rgb(29\, 33\, 41)\; color: rgb(29\, 33\, 41)\; font-family: system-ui\, -apple-system\, BlinkMacSystemFont\, &quot\;.SFNSText-Regular&quot\;\, sans-serif\; white-space: pre-wrap\;" />\n<span style="caret-color: rgb(29\, 33\, 41)\; color: rgb(29\, 33\, 41)\; font-family: system-ui\, -apple-system\, BlinkMacSystemFont\, &quot\;.SFNSText-Regular&quot\;\, sans-serif\; white-space: pre-wrap\;">Tickets: Tickets can be purchased at a discounted price ($12 for adults and $7 for children and seniors) before circus day at the Chamber office or from a PTO Officer. </span><br style="caret-color: rgb(29\, 33\, 41)\; color: rgb(29\, 33\, 41)\; font-family: system-ui\, -apple-system\, BlinkMacSystemFont\, &quot\;.SFNSText-Regular&quot\;\, sans-serif\; white-space: pre-wrap\;" />\n<br style="caret-color: rgb(29\, 33\, 41)\; color: rgb(29\, 33\, 41)\; font-family: system-ui\, -apple-system\, BlinkMacSystemFont\, &quot\;.SFNSText-Regular&quot\;\, sans-serif\; white-space: pre-wrap\;" />\n<span style="caret-color: rgb(29\, 33\, 41)\; color: rgb(29\, 33\, 41)\; font-family: system-ui\, -apple-system\, BlinkMacSystemFont\, &quot\;.SFNSText-Regular&quot\;\, sans-serif\; white-space: pre-wrap\;">You can also call 1-866-BIGTOP-6 during regular business hours for discounted will call tickets. On circus day\, tickets can be purchased at the box office and will be $15 for adults and $8 for children 2-12 and seniors 65 &amp\; up. No charge for children under the age of 2. Buy your tickets early and save! A portion of the proceeds will go to support our sponsor --the Ocosta PTO. Our 95 minute family-friendly show features Big Cats\, Unicyclists\, Dogs\, Trapeze\, Horses\, Sword Balancing\, the Wheel of Destiny\, Russian Swing (back by popular demand)\, Contortion and so much more! Visit </span><a data-lynx-mode="hover" data-lynx-uri="https://l.facebook.com/l.php?u=http%3A%2F%2Fcmcircus.com%2F%3Ffbclid%3DIwAR16qFgYeJMP2JT4Xt-UXIDVi0WeX_tzgjpSN_mQzbXeSLRgcGX8t1k0XNo&amp\;h=AT3h-YCTBGewe-uucqc3YeEd8Xs7rpQ9jRnuiavEzj8I1n27sqcMs-wEaTuwSrYN0Ysy6vjahNeRrWzmi7LUJlLxGilRBtLMehiTvpYheUjbjw29kjMs4Zc-Xu4yuwff0j6KN9tcsg" href="http://cmcircus.com/?fbclid=IwAR16qFgYeJMP2JT4Xt-UXIDVi0WeX_tzgjpSN_mQzbXeSLRgcGX8t1k0XNo" rel="nofollow noopener" style="text-decoration: none\; color: rgb(56\, 88\, 152)\; cursor: pointer\; font-family: system-ui\, -apple-system\, BlinkMacSystemFont\, &quot\;.SFNSText-Regular&quot\;\, sans-serif\; white-space: pre-wrap\;" target="_blank">cmcircus.com</a><span style="caret-color: rgb(29\, 33\, 41)\; color: rgb(29\, 33\, 41)\; font-family: system-ui\, -apple-system\, BlinkMacSystemFont\, &quot\;.SFNSText-Regular&quot\;\, sans-serif\; white-space: pre-wrap\;"> to see photos and find out more information on this year&#39\;s show.</span>
LOCATION:The Westport Marina near the TackleBox
UID:e.26.12003
SEQUENCE:3
DTSTAMP:20260424T132622Z
URL:https://chamber.graysharbor.org/events/details/circus-in-westport-12003
END:VEVENT

END:VCALENDAR
