BEGIN:VCALENDAR
VERSION:2.0
PRODID:-//ChamberMaster//Event Calendar 2.0//EN
METHOD:PUBLISH
X-PUBLISHED-TTL:P3D
REFRESH-INTERVAL:P3D
CALSCALE:GREGORIAN
BEGIN:VEVENT
DTSTART:20191117T030000Z
DTEND:20191117T073000Z
X-MICROSOFT-CDO-ALLDAYEVENT:FALSE
SUMMARY:Clash of the Cowboys
DESCRIPTION:Clash of the Cowboys is back for another round of explosive introductions\, heart-stopping rodeo action\, and an after-party featuring a live band that you won't want to miss! Come and watch the best Cowboys and Cowgirls in the Northwest compete in the Bareback Riding\, Saddle Broncs\, Barrel Racing\, and of course Bull Riding all at the Grays Harbor Fairgrounds in Elma!\n\n\n\nDoors open at 5pm and the show starts at 7pm.
X-ALT-DESC;FMTTYPE=text/html:<div style="background-color: transparent\; border-bottom-color: rgb(20\, 20\, 20)\; border-bottom-style: none\; border-bottom-width: 0px\; border-image-outset: 0\; border-image-repeat: stretch\; border-image-slice: 100%\; border-image-source: none\; border-image-width: 1\; border-left-color: rgb(20\, 20\, 20)\; border-left-style: none\; border-left-width: 0px\; border-right-color: rgb(20\, 20\, 20)\; border-right-style: none\; border-right-width: 0px\; border-top-color: rgb(20\, 20\, 20)\; border-top-style: none\; border-top-width: 0px\; box-sizing: border-box\; color: rgb(20\, 20\, 20)\; font-family: &amp\;quot\;Roboto Condensed&amp\;quot\;\; font-size: 17.33px\; font-style: normal\; font-variant: normal\; font-weight: 400\; letter-spacing: normal\; line-height: 24px\; margin-bottom: 0px\; margin-left: 0px\; margin-right: 0px\; margin-top: 0px\; -ms-text-size-adjust: auto\; orphans: 2\; outline-color: invert\; outline-style: none\; outline-width: 0px\; padding-bottom: 0px\; padding-left: 0px\; padding-right: 0px\; padding-top: 0px\; text-align: left\; text-decoration: none\; text-indent: 0px\; text-transform: none\; vertical-align: baseline\; -webkit-tap-highlight-color: transparent\; -webkit-text-stroke-width: 0px\; white-space: normal\; word-spacing: 0px\;"><span style="font-size:14px\;"><span style="font-family:arial\;"><span style="margin: 0px\; padding: 0px\; outline: 0px\; border: 0px rgb(29\, 33\, 41)\; border-image: none\; text-align: left\; color: rgb(29\, 33\, 41)\; text-transform: none\; text-indent: 0px\; letter-spacing: normal\; font-style: normal\; font-variant: normal\; font-weight: 400\; text-decoration: none\; word-spacing: 0px\; vertical-align: baseline\; display: inline\; white-space: pre-wrap\; box-sizing: border-box\; orphans: 2\; float: none\; -ms-text-size-adjust: auto\; -webkit-tap-highlight-color: transparent\; -webkit-text-stroke-width: 0px\; background-color: transparent\;"><font style="box-sizing: border-box\; -ms-text-size-adjust: auto\; -webkit-tap-highlight-color: transparent\;">Clash of the Cowboys is back for another round of explosive introductions\, heart-stopping rodeo action\, and an after-party featuring a live band that you won&#39\;t want to miss! Come and watch the best Cowboys and Cowgirls in the Northwest compete in the Bareback Riding\, Saddle Broncs\, Barrel Racing\, and of course Bull Riding all at the Grays Harbor Fairgrounds in Elma!<br />\n<br />\nDoors open at 5pm and the show starts at 7pm. </font></span></span></span></div>\n
LOCATION:Grays Harbor Fairgrounds 32 Elma McCleary Rd. Elma\, WA
UID:e.26.12170
SEQUENCE:3
DTSTAMP:20260424T060258Z
URL:https://chamber.graysharbor.org/events/details/clash-of-the-cowboys-12170
END:VEVENT

END:VCALENDAR
