BEGIN:VCALENDAR
VERSION:2.0
PRODID:-//ChamberMaster//Event Calendar 2.0//EN
METHOD:PUBLISH
X-PUBLISHED-TTL:P3D
REFRESH-INTERVAL:P3D
CALSCALE:GREGORIAN
BEGIN:VEVENT
DTSTART:20180922T023000Z
DTEND:20180923T040000Z
X-MICROSOFT-CDO-ALLDAYEVENT:FALSE
SUMMARY:Close Encounters of the Third Kind (1977)
DESCRIPTION:September 21 & 22 @ 7:30 pm\n\nTickets are $6\n\nTickets are available at City Drug\, Crown Drug\, Harbor Drug\, or at the door 30 minutes prior to the show.\n\n\n\nAs researchers discover and decipher phenomena that suggest an alien visitation to Earth may be imminent\, ordinary family guy Roy Neary (Richard Dreyfuss) and a few fellow Hoosiers have their own UFO experiences. Roy and a single mom (Melinda Dillon) whose son has been seemingly snatched by spacemen\, are left with subconscious suggestions that drive them toward their own ultimate "close encounters" in director Steven Spielberg's 1977 sci-fi adventure\, the first of his two films featuring friendly extraterrestrials\, like E.T. \n\n\n\nLocally sponsored by Coleman Mortuary\, Durney Insurance\, Fern Hill Funeral Home\, Grays Harbor College\, McGregor Insurance Inc\, Rich Hartman's Five Star Dealerships\, Hoquiam Senior Citizen Board\, McGregor Insurance\, Inc.\, Pasha Automotive Services\, Wunderland Childcare Centers\, Jodesha Broadcasting\, Alpha Media Grays Harbor.
X-ALT-DESC;FMTTYPE=text/html:<span style="color: rgb(29\, 33\, 41)\; font-family: Helvetica\, Arial\, sans-serif\; font-size: 14px\; background-color: rgb(255\, 255\, 255)\;">September 21 &amp\; 22 @ 7:30 pm</span><br style="color: rgb(29\, 33\, 41)\; font-family: Helvetica\, Arial\, sans-serif\; font-size: 14px\; background-color: rgb(255\, 255\, 255)\;" />\n<span style="color: rgb(29\, 33\, 41)\; font-family: Helvetica\, Arial\, sans-serif\; font-size: 14px\; background-color: rgb(255\, 255\, 255)\;">Tickets are $6</span><br style="color: rgb(29\, 33\, 41)\; font-family: Helvetica\, Arial\, sans-serif\; font-size: 14px\; background-color: rgb(255\, 255\, 255)\;" />\n<span style="color: rgb(29\, 33\, 41)\; font-family: Helvetica\, Arial\, sans-serif\; font-size: 14px\; background-color: rgb(255\, 255\, 255)\;">Tickets are available at City Drug\, Crown Drug\, Harbor Drug\, or at the door 30 minutes prior to the show.</span><br style="color: rgb(29\, 33\, 41)\; font-family: Helvetica\, Arial\, sans-serif\; font-size: 14px\; background-color: rgb(255\, 255\, 255)\;" />\n<br style="color: rgb(29\, 33\, 41)\; font-family: Helvetica\, Arial\, sans-serif\; font-size: 14px\; background-color: rgb(255\, 255\, 255)\;" />\n<span style="color: rgb(29\, 33\, 41)\; font-family: Helvetica\, Arial\, sans-serif\; font-size: 14px\; background-color: rgb(255\, 255\, 255)\;">As researchers discover and decipher phenomena that suggest an alien visitation to Earth may be imminent\, ordinary family guy Roy Neary (Richard Dreyfuss) and a few fellow Hoosiers have their own UFO experiences. Roy and a single mom (Melinda Dillon) whose son has been seemingly snatched by spacemen\, are left with subconscious suggestions that drive them toward their own ultimate &quot\;close encounters&quot\; in director Steven Spielberg&#39\;s 1977 sci-fi adventure\, the first of his two films featuring friendly extraterrestrials\, like E.T.&nbsp\;</span><br style="color: rgb(29\, 33\, 41)\; font-family: Helvetica\, Arial\, sans-serif\; font-size: 14px\; background-color: rgb(255\, 255\, 255)\;" />\n<br style="color: rgb(29\, 33\, 41)\; font-family: Helvetica\, Arial\, sans-serif\; font-size: 14px\; background-color: rgb(255\, 255\, 255)\;" />\n<span style="color: rgb(29\, 33\, 41)\; font-family: Helvetica\, Arial\, sans-serif\; font-size: 14px\; background-color: rgb(255\, 255\, 255)\;">Locally sponsored by Coleman Mortuary\, Durney Insurance\, Fern Hill Funeral Home\, Grays Harbor College\, McGregor Insurance Inc\, Rich Hartman&#39\;s Five Star Dealerships\, Hoquiam Senior Citizen Board\, McGregor Insurance\, Inc.\, Pasha Automotive Services\, Wunderland Childcare Centers\, Jodesha Broadcasting\, Alpha Media Grays Harbor.</span>
LOCATION:7th St. Theatre Hoquiam\, WA
UID:e.26.11219
SEQUENCE:3
DTSTAMP:20260425T015700Z
URL:https://chamber.graysharbor.org/events/details/close-encounters-of-the-third-kind-1977-11219
END:VEVENT

END:VCALENDAR
