BEGIN:VCALENDAR
VERSION:2.0
PRODID:-//ChamberMaster//Event Calendar 2.0//EN
METHOD:PUBLISH
X-PUBLISHED-TTL:P3D
REFRESH-INTERVAL:P3D
CALSCALE:GREGORIAN
BEGIN:VEVENT
DTSTART:20190508T003000Z
DTEND:20190508T020000Z
X-MICROSOFT-CDO-ALLDAYEVENT:FALSE
SUMMARY:Co-op Academy: Session 2
DESCRIPTION:Learn about the co-op business model and the Co-op Academy in this 90-minute info session. The Northwest Co-op Development Center will be offering a 10-week crash course on starting a co-op or converting an existing business into a co-op this summer in Grays Harbor. \nThese information sessions will explain the co-op model\, the structure of the academy\, and the benefits of using co-op business to build resilient local economies. For more information call 360-943-4241 or email info@nwcdc.coop.
X-ALT-DESC;FMTTYPE=text/html:<p dir="ltr" style="line-height: 1.2\; margin: 6pt 5.05pt 12pt\;"><span style="font-size:14px\;"><span style="font-family:arial\;"><span id="docs-internal-guid-472952ac-7fff-46cf-10f7-994bfa20e7f8" style="caret-color: rgb(0\, 0\, 0)\;"><span style="background-color: transparent\; font-weight: 700\; font-variant-ligatures: normal\; font-variant-east-asian: normal\; font-variant-position: normal\; vertical-align: baseline\; white-space: pre-wrap\;">Learn about the co-op business model and the Co-op Academy in this 90-minute info session. The Northwest Co-op Development Center will be offering a 10-week crash course on starting a co-op or converting an existing business into a co-op this summer in Grays Harbor. </span></span></span></span></p>\n<span style="font-size:14px\;"><span style="font-family:arial\;"><span id="docs-internal-guid-472952ac-7fff-46cf-10f7-994bfa20e7f8" style="caret-color: rgb(0\, 0\, 0)\;"><span style="background-color: transparent\; font-weight: 700\; font-variant-ligatures: normal\; font-variant-east-asian: normal\; font-variant-position: normal\; vertical-align: baseline\; white-space: pre-wrap\;">These information sessions will explain the co-op model\, the structure of the academy\, and the benefits of using co-op business to build resilient local economies. For more information call 360-943-4241 or email </span><a><span style="background-color: transparent\; font-weight: 700\; font-variant-ligatures: normal\; font-variant-east-asian: normal\; font-variant-position: normal\; text-decoration: underline\; -webkit-text-decoration-skip: none\; vertical-align: baseline\; white-space: pre-wrap\;">info@nwcdc.coop</span></a><span style="background-color: transparent\; font-weight: 700\; font-variant-ligatures: normal\; font-variant-east-asian: normal\; font-variant-position: normal\; vertical-align: baseline\; white-space: pre-wrap\;">. </span></span></span></span>
LOCATION:Tinderbox Coffee Roasters 113 E Wishkah St. Aberdeen\, WA
UID:e.26.11915
SEQUENCE:3
DTSTAMP:20260424T150144Z
URL:https://chamber.graysharbor.org/events/details/co-op-academy-session-2-11915
END:VEVENT

END:VCALENDAR
