BEGIN:VCALENDAR
VERSION:2.0
PRODID:-//ChamberMaster//Event Calendar 2.0//EN
METHOD:PUBLISH
X-PUBLISHED-TTL:P3D
REFRESH-INTERVAL:P3D
CALSCALE:GREGORIAN
BEGIN:VEVENT
DTSTART:20191110T180000Z
DTEND:20191111T000000Z
X-MICROSOFT-CDO-ALLDAYEVENT:FALSE
SUMMARY:COASST Marine Debris Training
DESCRIPTION:Join the Coastal Observation and Seabird Survey Team (COASST) and help make a difference for the environment! COASST participants survey local beaches and collect data on the characteristics and location of debris - data that will ultimately be used to map the source and transport pathways of debris\, as well as the potential harm to people\, wildlife\, and local coastal ecosystems. Beach surveys are best conducted in groups of 2 or more please come with a survey partner in mind or plan to join a team during training.
X-ALT-DESC;FMTTYPE=text/html:Join the Coastal Observation and Seabird Survey Team (COASST) and help make a difference for the environment! COASST participants survey local beaches and collect data on the characteristics and location of debris - data that will ultimately be used to map the source and transport pathways of debris\, as well as the potential harm to people\, wildlife\, and local coastal ecosystems. Beach surveys are best conducted in groups of 2 or more&mdash\;please come with a survey partner in mind or plan to join a team during training.
LOCATION:PUD Auditorium 9610 Sandridge Rd Long Beach\, WA 98631
UID:e.26.12260
SEQUENCE:3
DTSTAMP:20260424T060120Z
URL:https://chamber.graysharbor.org/events/details/coasst-marine-debris-training-11-10-2019-12260
END:VEVENT

END:VCALENDAR
