BEGIN:VCALENDAR
VERSION:2.0
PRODID:-//ChamberMaster//Event Calendar 2.0//EN
METHOD:PUBLISH
X-PUBLISHED-TTL:P3D
REFRESH-INTERVAL:P3D
CALSCALE:GREGORIAN
BEGIN:VEVENT
DTSTART:20171028T180000Z
DTEND:20171029T000000Z
X-MICROSOFT-CDO-ALLDAYEVENT:FALSE
SUMMARY:COASST Marine Debris Training
DESCRIPTION:Join the COASST Marine Debris program and help make a difference for the environment! COASST Marine Debris participants survey local beaches and collect data on the characteristics and location of debris- data that will ultimately be used to map the source and transport pathways of debris\, as well as the potential harm to people\, wildlife\, and local coastal ecosystems. Beach surveys are best conducted in groups of 2 or more- please come with a survey partner in mind or plan to join a team during training. Reserve you training spot by emailing coasst@uw.edu or calling 206-221-6893
X-ALT-DESC;FMTTYPE=text/html:Join the COASST Marine Debris program and help make a difference for the environment! COASST Marine Debris participants survey local beaches and collect data on the characteristics and location of debris- data that will ultimately be used to map the source and transport pathways of debris\, as well as the potential harm to people\, wildlife\, and local coastal ecosystems. Beach surveys are best conducted in groups of 2 or more- please come with a survey partner in mind or plan to join a team during training. Reserve you training spot by emailing coasst@uw.edu or calling 206-221-6893
LOCATION:Clatsop Community College\, Towler Hall\, Room 306 1651 Lexington Ave\, Astoria\, OR 97103 Cannon Beach History center & Museum 1387 South Spruce Street\, Cannon Beach\, OR 97110
UID:e.26.8287
SEQUENCE:3
DTSTAMP:20260425T200147Z
URL:https://chamber.graysharbor.org/events/details/coasst-marine-debris-training-8287
END:VEVENT

END:VCALENDAR
