BEGIN:VCALENDAR
VERSION:2.0
PRODID:-//ChamberMaster//Event Calendar 2.0//EN
METHOD:PUBLISH
X-PUBLISHED-TTL:P3D
REFRESH-INTERVAL:P3D
CALSCALE:GREGORIAN
BEGIN:VEVENT
DTSTART:20190823T190000Z
DTEND:20190823T200000Z
X-MICROSOFT-CDO-ALLDAYEVENT:FALSE
SUMMARY:Coastal BizWorks Info Session
DESCRIPTION:The first step in joining us on the journey to business planning success is to jump in for a short information session. This is an opportunity to have your questions answered\, learn more about the program and resources Enterprise for Equity can offer you as a business owner\, and move on to the upcoming Business Readiness Workshops occurring locally this summer. All info sessions will take place in Aberdeen or Hoquiam.
X-ALT-DESC;FMTTYPE=text/html:The first step in joining us on the journey to business planning success is to jump in for a short information session. This is an opportunity to have your questions answered\, learn more about the program and resources Enterprise for Equity can offer you as a business owner\, and move on to the upcoming Business Readiness Workshops occurring locally this summer. All info sessions will take place in Aberdeen or Hoquiam.
LOCATION:Hoquiam Timberland Library
UID:e.26.12072
SEQUENCE:3
DTSTAMP:20260424T091021Z
URL:https://chamber.graysharbor.org/events/details/coastal-bizworks-info-session-12072
END:VEVENT

END:VCALENDAR
