BEGIN:VCALENDAR
VERSION:2.0
PRODID:-//ChamberMaster//Event Calendar 2.0//EN
METHOD:PUBLISH
X-PUBLISHED-TTL:P3D
REFRESH-INTERVAL:P3D
CALSCALE:GREGORIAN
BEGIN:VEVENT
DTSTART;VALUE=DATE:20200116
DTEND;VALUE=DATE:20200117
TRANSP:TRANSPARENT
X-MICROSOFT-CDO-ALLDAYEVENT:TRUE
SUMMARY:Coastal BizWorks Info Session
DESCRIPTION:The first step in joining the journey to business planning success is to jump in for a short information session.\n\n\n\nPlan to attend a free one-hour Information Session for an overview of the full Coastal BizWorks program\, which offers business development fundamentals\, professional evaluation of business feasibility and readiness\, business planning guidance\, and even start-up capital. \n\n\n\nThis is an opportunity to have your questions answered\, learn more about the program and resources Enterprise for Equity can offer you as a business owner\, and move on to the upcoming Business Readiness Workshops occurring locally this year.\n\n\n\nFacebook: facebook.com/coastalbizworks
X-ALT-DESC;FMTTYPE=text/html:<span style="font-size:14px\;"><span style="font-family:arial\;"><span style="caret-color: rgb(29\, 33\, 41)\; color: rgb(29\, 33\, 41)\; white-space: pre-wrap\;">The first step in joining the journey to business planning success is to jump in for a short information session.</span></span></span><br />\n<br />\n<span style="caret-color: rgb(0\, 0\, 0)\; font-family: arial\; font-size: 14px\; text-align: center\; color: rgb(35\, 31\, 32)\; background-color: transparent\; font-variant-ligatures: normal\; font-variant-east-asian: normal\; font-variant-position: normal\; vertical-align: baseline\; white-space: pre-wrap\;">Plan to attend a free one-hour Information Session </span><span style="caret-color: rgb(0\, 0\, 0)\; font-family: arial\; font-size: 14px\; text-align: center\; color: rgb(35\, 31\, 32)\; background-color: transparent\; font-variant-ligatures: normal\; font-variant-east-asian: normal\; font-variant-position: normal\; vertical-align: baseline\; white-space: pre-wrap\;">for an overview of the full Coastal BizWorks program\, which offers business development fundamentals\, professional evaluation of business feasibility and readiness\, business planning guidance\, and even start-up capital.&nbsp\;</span><br style="caret-color: rgb(29\, 33\, 41)\; color: rgb(29\, 33\, 41)\; font-family: system-ui\, -apple-system\, BlinkMacSystemFont\, &quot\;.SFNSText-Regular&quot\;\, sans-serif\; font-size: 14px\; white-space: pre-wrap\;" />\n<br style="caret-color: rgb(29\, 33\, 41)\; color: rgb(29\, 33\, 41)\; font-family: system-ui\, -apple-system\, BlinkMacSystemFont\, &quot\;.SFNSText-Regular&quot\;\, sans-serif\; font-size: 14px\; white-space: pre-wrap\;" />\n<span style="font-size:14px\;"><span style="font-family:arial\;"><span style="caret-color: rgb(29\, 33\, 41)\; color: rgb(29\, 33\, 41)\; white-space: pre-wrap\;">This is an opportunity to have your questions answered\, learn more about the program and resources Enterprise for Equity can offer you as a business owner\, and move on to the upcoming Business Readiness Workshops occurring locally this year.<br />\n<br />\nFacebook:</span></span><span style="caret-color: rgb(29\, 33\, 41)\; color: rgb(29\, 33\, 41)\; white-space: pre-wrap\;"> </span>facebook.com/coastalbizworks</span>
LOCATION:Hoquiam Library - Noon to 1pm Additional times: Montesano Library - 10am to 11am Amanda Park Library - 2pm to 3pm Ocean Shores Convention Center - 5pm - 6pm
UID:e.26.12349
SEQUENCE:3
DTSTAMP:20260424T042107Z
URL:https://chamber.graysharbor.org/events/details/coastal-bizworks-info-session-12349
END:VEVENT

END:VCALENDAR
