BEGIN:VCALENDAR
VERSION:2.0
PRODID:-//ChamberMaster//Event Calendar 2.0//EN
METHOD:PUBLISH
X-PUBLISHED-TTL:P3D
REFRESH-INTERVAL:P3D
CALSCALE:GREGORIAN
BEGIN:VEVENT
DTSTART:20170923T010000Z
DTEND:20170923T030000Z
X-MICROSOFT-CDO-ALLDAYEVENT:FALSE
SUMMARY:Coastal Harvest Benefit Dinner
DESCRIPTION:'Harvest by the Sea'\n\nThe evening starts off at 6:00 pm with Cocktail Hour and entertainment provided by local artist Ericka Corban. An appetizer bar will be open for small bites such as PB&J finger sandwiches\, Lemony Cucumber Cream Cheese Finger Sandwiches\, Mini Caprese Skewers and Veggie Cups with Ranch. As you are enjoying a selection of delicious appetizers and wonderful music\, the bar will be open with a wine paring provided by GH Wine Sellars and beer being poured by Steam Donkey Brewing Company. \n\nDinner will be catered by Mill 109 and served at 7:00 pm. The Dinner Menu consists of Squash Bisque Soup\, Local Halibut Topped with Vanilla Rum Butter\, Spiced Cauliflower Mash\, and a Crispy Kale and Spinach Salad. There will be a vegetarian option available. During dinner there will be 2 speakers that will provide an in depth look at what we do at Coastal Harvest and our impact in our communities that we serve.\n\nThe evening will wrap up with "Raise your Paddle" Auction and a "Desert Auction" where you will have the opportunity to bid on a variety of cakes\, cupcakes\, pies and much more crafted by Cake Cakes.
X-ALT-DESC;FMTTYPE=text/html:<p style="margin: 0in 0in 0.0001pt\; font-size: 12pt\; font-family: &quot\;Times New Roman&quot\;\, serif\; color: rgb(34\, 34\, 34)\; background-color: rgb(255\, 255\, 255)\;"><span style="font-size: 11.5pt\; font-family: Helvetica\, sans-serif\; color: rgb(102\, 106\, 115)\; letter-spacing: 0.4pt\;"><strong>&#39\;Harvest by the Sea&#39\;</strong><br />\nThe evening starts off at&nbsp\;<span class="aBn" data-term="goog_1352798249" style="border-bottom: 1px dashed rgb(204\, 204\, 204)\; position: relative\; top: -2px\; z-index: 0\;" tabindex="0"><span class="aQJ" style="position: relative\; top: 2px\; z-index: -1\;">6:00 pm</span></span>&nbsp\;with Cocktail Hour and entertainment provided by local artist Ericka Corban. An appetizer bar will be open for small bites such as PB&amp\;J finger sandwiches\, Lemony Cucumber Cream Cheese Finger Sandwiches\, Mini Caprese Skewers and Veggie Cups with Ranch. As you are enjoying a selection of delicious appetizers and wonderful music\, the bar will be open with a wine paring provided by GH Wine Sellars and beer being poured by Steam Donkey Brewing Company.&nbsp\;</span></p>\n\n<p style="margin: 0in 0in 0.0001pt\; font-size: 12pt\; font-family: &quot\;Times New Roman&quot\;\, serif\; color: rgb(34\, 34\, 34)\; background-color: rgb(255\, 255\, 255)\;"><span style="font-size: 11.5pt\; font-family: Helvetica\, sans-serif\; color: rgb(102\, 106\, 115)\; letter-spacing: 0.4pt\;">Dinner will be catered by Mill 109 and served at&nbsp\;<span class="aBn" data-term="goog_1352798250" style="border-bottom: 1px dashed rgb(204\, 204\, 204)\; position: relative\; top: -2px\; z-index: 0\;" tabindex="0"><span class="aQJ" style="position: relative\; top: 2px\; z-index: -1\;">7:00 pm</span></span>. The Dinner Menu consists of Squash Bisque Soup\, Local Halibut Topped with Vanilla Rum Butter\, Spiced Cauliflower Mash\, and a Crispy Kale and Spinach Salad. There will be a vegetarian option available. During dinner there will be 2 speakers that will provide an in depth look at what we do at Coastal Harvest and our impact in our communities that we serve.</span></p>\n\n<p style="margin: 0in 0in 0.0001pt\; font-size: 12pt\; font-family: &quot\;Times New Roman&quot\;\, serif\; color: rgb(34\, 34\, 34)\; background-color: rgb(255\, 255\, 255)\;"><span style="font-size: 11.5pt\; font-family: Helvetica\, sans-serif\; color: rgb(102\, 106\, 115)\; letter-spacing: 0.4pt\;">The evening will wrap up with &quot\;Raise your Paddle&quot\; Auction and a&nbsp\;&quot\;Desert Auction&quot\; where you will have the opportunity to bid on a variety of cakes\, cupcakes\, pies and much more crafted by Cake Cakes.</span></p>\n\n<p style="margin: 0in 0in 0.0001pt\; font-size: 12pt\; font-family: &quot\;Times New Roman&quot\;\, serif\; color: rgb(34\, 34\, 34)\; background-color: rgb(255\, 255\, 255)\;"><span style="font-size: 11.5pt\; font-family: Helvetica\, sans-serif\; color: rgb(102\, 106\, 115)\; letter-spacing: 0.4pt\;">&nbsp\;</span></p>\n
LOCATION:Seabrook Pacific Beach
UID:e.26.8222
SEQUENCE:3
DTSTAMP:20260425T230222Z
URL:https://chamber.graysharbor.org/events/details/coastal-harvest-benefit-dinner-8222
END:VEVENT

END:VCALENDAR
