BEGIN:VCALENDAR
VERSION:2.0
PRODID:-//ChamberMaster//Event Calendar 2.0//EN
METHOD:PUBLISH
X-PUBLISHED-TTL:P3D
REFRESH-INTERVAL:P3D
CALSCALE:GREGORIAN
BEGIN:VEVENT
DTSTART:20190517T200000Z
DTEND:20190517T210000Z
X-MICROSOFT-CDO-ALLDAYEVENT:FALSE
SUMMARY:Coastline Sign Ribbon Cutting
DESCRIPTION:Greater Grays Harbor will be performing a ribbon cutting for their newest Leaders Circle Member\, Coastline Sign! They are also under new management. The event will take place on Friday\, May 17th at 1 pm! They are located at the Shoppes at Riverside (1017 S. Boone St.) in Ste 208 down by Sears.
X-ALT-DESC;FMTTYPE=text/html:<span style="caret-color: rgb(34\, 34\, 34)\; color: rgb(34\, 34\, 34)\; font-family: Arial\, Helvetica\, sans-serif\;"><font size="2">Greater Grays Harbor will be performing a ribbon cutting for their&nbsp\;</font></span><b style="caret-color: rgb(34\, 34\, 34)\; color: rgb(34\, 34\, 34)\; font-family: Arial\, Helvetica\, sans-serif\;">newest Leaders Circle Member\, Coastline Sign!</b><span style="caret-color: rgb(34\, 34\, 34)\; color: rgb(34\, 34\, 34)\; font-family: Arial\, Helvetica\, sans-serif\; font-size: small\;">&nbsp\;They are also under new management. The event will take place on Friday\, May 17</span><sup style="caret-color: rgb(34\, 34\, 34)\; color: rgb(34\, 34\, 34)\; font-family: Arial\, Helvetica\, sans-serif\;">th</sup><span style="caret-color: rgb(34\, 34\, 34)\; color: rgb(34\, 34\, 34)\; font-family: Arial\, Helvetica\, sans-serif\; font-size: small\;">&nbsp\;at 1 pm! They are located at the Shoppes at Riverside (1017 S. Boone St.) in Ste 208 down by Sears.</span>
LOCATION:Coastline Sign - Shoppes at Riverside 1017 S. Boone St. #208 Aberdeen\, WA.
UID:e.26.11997
SEQUENCE:3
DTSTAMP:20260424T150715Z
URL:https://chamber.graysharbor.org/events/details/coastline-sign-ribbon-cutting-11997
END:VEVENT

END:VCALENDAR
