BEGIN:VCALENDAR
VERSION:2.0
PRODID:-//ChamberMaster//Event Calendar 2.0//EN
METHOD:PUBLISH
X-PUBLISHED-TTL:P3D
REFRESH-INTERVAL:P3D
CALSCALE:GREGORIAN
BEGIN:VEVENT
DTSTART;VALUE=DATE:20191214
DTEND;VALUE=DATE:20191215
TRANSP:TRANSPARENT
X-MICROSOFT-CDO-ALLDAYEVENT:TRUE
SUMMARY:Cocoa Factory 2019 At Monte Fitness
DESCRIPTION:Don't forget to stop by the Cocoa Factory this year during downtown Montesano's Festival of Lights parade!\n\n\n\nLet us warm you up during the Festival of Lights at Monte Fitness Center where you can create your own fun\, unique cup of cocoa! 100% of all donations will help support Connections\, a center for healthy families. The cocoa Factory will open before the parade and will remain open until the end of the parade while supplies last.\n\n\n\nFollow Connections on Facebook by visiting this link:\n\nhttps://www.facebook.com/Connections-329562950415/\n\n\n\nhttp://harborconnections.org/
X-ALT-DESC;FMTTYPE=text/html:<span style="caret-color: rgb(29\, 33\, 41)\; color: rgb(29\, 33\, 41)\; font-family: system-ui\, -apple-system\, BlinkMacSystemFont\, &quot\;.SFNSText-Regular&quot\;\, sans-serif\; font-size: 14px\; white-space: pre-wrap\;">Don&#39\;t forget to stop by the Cocoa Factory this year during downtown Montesano&#39\;s Festival of Lights parade!</span><br style="caret-color: rgb(29\, 33\, 41)\; color: rgb(29\, 33\, 41)\; font-family: system-ui\, -apple-system\, BlinkMacSystemFont\, &quot\;.SFNSText-Regular&quot\;\, sans-serif\; font-size: 14px\; white-space: pre-wrap\;" />\n<br style="caret-color: rgb(29\, 33\, 41)\; color: rgb(29\, 33\, 41)\; font-family: system-ui\, -apple-system\, BlinkMacSystemFont\, &quot\;.SFNSText-Regular&quot\;\, sans-serif\; font-size: 14px\; white-space: pre-wrap\;" />\n<span style="caret-color: rgb(29\, 33\, 41)\; color: rgb(29\, 33\, 41)\; font-family: system-ui\, -apple-system\, BlinkMacSystemFont\, &quot\;.SFNSText-Regular&quot\;\, sans-serif\; font-size: 14px\; white-space: pre-wrap\;">Let us warm you up during the Festival of Lights at Monte Fitness Center where you can create your own fun\, unique cup of cocoa! 100% of all donations will help support Connections\, a center for healthy families. The cocoa Factory will open before the parade and will remain open until the end of the parade while supplies last.</span><br style="caret-color: rgb(29\, 33\, 41)\; color: rgb(29\, 33\, 41)\; font-family: system-ui\, -apple-system\, BlinkMacSystemFont\, &quot\;.SFNSText-Regular&quot\;\, sans-serif\; font-size: 14px\; white-space: pre-wrap\;" />\n<br style="caret-color: rgb(29\, 33\, 41)\; color: rgb(29\, 33\, 41)\; font-family: system-ui\, -apple-system\, BlinkMacSystemFont\, &quot\;.SFNSText-Regular&quot\;\, sans-serif\; font-size: 14px\; white-space: pre-wrap\;" />\n<span style="caret-color: rgb(29\, 33\, 41)\; color: rgb(29\, 33\, 41)\; font-family: system-ui\, -apple-system\, BlinkMacSystemFont\, &quot\;.SFNSText-Regular&quot\;\, sans-serif\; font-size: 14px\; white-space: pre-wrap\;">Follow Connections on Facebook by visiting this link:</span><br style="caret-color: rgb(29\, 33\, 41)\; color: rgb(29\, 33\, 41)\; font-family: system-ui\, -apple-system\, BlinkMacSystemFont\, &quot\;.SFNSText-Regular&quot\;\, sans-serif\; font-size: 14px\; white-space: pre-wrap\;" />\n<a href="https://www.facebook.com/Connections-329562950415/" style="color: rgb(56\, 88\, 152)\; cursor: pointer\; text-decoration: none\; font-family: system-ui\, -apple-system\, BlinkMacSystemFont\, &quot\;.SFNSText-Regular&quot\;\, sans-serif\; font-size: 14px\; white-space: pre-wrap\;" target="_blank">https://www.facebook.com/Connections-329562950415/</a><br style="caret-color: rgb(29\, 33\, 41)\; color: rgb(29\, 33\, 41)\; font-family: system-ui\, -apple-system\, BlinkMacSystemFont\, &quot\;.SFNSText-Regular&quot\;\, sans-serif\; font-size: 14px\; white-space: pre-wrap\;" />\n<br style="caret-color: rgb(29\, 33\, 41)\; color: rgb(29\, 33\, 41)\; font-family: system-ui\, -apple-system\, BlinkMacSystemFont\, &quot\;.SFNSText-Regular&quot\;\, sans-serif\; font-size: 14px\; white-space: pre-wrap\;" />\n<a data-lynx-mode="hover" href="https://l.facebook.com/l.php?u=http%3A%2F%2Fharborconnections.org%2F%3Ffbclid%3DIwAR2kC-TQBL2wy7fJ58T4FoZnvOSXMtAQr0-gkNDH9qavaiqOFvr3xOJ1xMs&amp\;h=AT30GOzfIvt1aPd_Ci_n6iLmfsSosTSF93ik8bQhJryl4xD_SEkjEJacJy0wipwnguYcahpI9k9rSSFENR2JjmFULCuIxYGd49Ob-fJm1ILsaI1HzVTO8BNcn6bOIccPhiqGpzOWzQ" rel="nofollow noopener" style="color: rgb(56\, 88\, 152)\; cursor: pointer\; text-decoration: none\; font-family: system-ui\, -apple-system\, BlinkMacSystemFont\, &quot\;.SFNSText-Regular&quot\;\, sans-serif\; font-size: 14px\; white-space: pre-wrap\;" target="_blank">http://harborconnections.org/</a>
LOCATION:pin Monte Fitness Center 210 S Main St\, Montesano\, Washington 98563
UID:e.26.12305
SEQUENCE:3
DTSTAMP:20260424T030716Z
URL:https://chamber.graysharbor.org/events/details/cocoa-factory-2019-at-monte-fitness-12305
END:VEVENT

END:VCALENDAR
