BEGIN:VCALENDAR
VERSION:2.0
PRODID:-//ChamberMaster//Event Calendar 2.0//EN
METHOD:PUBLISH
X-PUBLISHED-TTL:P3D
REFRESH-INTERVAL:P3D
CALSCALE:GREGORIAN
BEGIN:VEVENT
DTSTART:20171104T160000Z
DTEND:20171104T190000Z
X-MICROSOFT-CDO-ALLDAYEVENT:FALSE
SUMMARY:Coffee & Canvas
DESCRIPTION:Join us Saturday\, November 4th for a morning of painting fun\, friends and coffee!\n\n\n\nThe cost is just $20 per person and includes all of the painting supplies and a beverage of your choice from our cafe. Bring your friends\, sisters\, moms and daughter's. This painting is recommended for ages 12 and up! \n\n\n\nThe design is very easy and so adorable for the Christmas Season. It's the perfect piece to add to any room or gift to give to a loved one. We hope you can come bring out your inner artist and enjoy a morning of painting\, coffee and fun with us!\n\n\n\nSpace is limited\, so be sure to register to guarantee your spot.\n\n\n\n	Art\n	Painting
X-ALT-DESC;FMTTYPE=text/html:<div class="_2qgs" style="color: rgb(75\, 79\, 86)\; padding: 12px\; position: relative\; border-top: none\; font-family: Helvetica\, Arial\, sans-serif\; font-size: 12px\;"><span class="_4n-j _3cht fsl" data-testid="event-permalink-details" style="font-size: 14px\; font-family: inherit\;">Join us Saturday\, November 4th for a morning of painting fun\, friends and coffee!<br />\n<br />\nThe cost is just $20 per person and includes all of the painting supplies and a beverage of your choice from our cafe. Bring your friends\, sisters\, moms and daughter&#39\;s. This painting is recommended for ages 12 and up!&nbsp\;<br />\n<br />\nThe design is very easy and so adorable for the Christmas Season. It&#39\;s the perfect piece to add to any room or gift to give to a loved one. We hope you can come bring out your inner artist and enjoy a morning of painting\, coffee and fun with us!<br />\n<br />\nSpace is limited\, so be sure to register to guarantee your spot.</span></div>\n\n<div class="_1r51" style="line-height: 24px\; margin: 4px 12px 12px\; min-height: 24px\; font-family: Helvetica\, Arial\, sans-serif\; color: rgb(29\, 33\, 41)\; font-size: 12px\;">\n<ul class="uiList uiCollapsedList uiCollapsedListHidden _509- _4ki" id="u_jsonp_22_p" style="list-style-type: none\; margin: 0px\; padding: 0px\;">\n	<li style="border-width: 0px\; display: inline-block\; vertical-align: top\;"><a href="https://www.facebook.com/events/discovery/?acontext=%7B%22ref%22%3A44%2C%22unit_ref%22%3A%22related_events%22%2C%22source%22%3A1%2C%22is_sponsored%22%3Atrue%2C%22ad_creator_id%22%3A100000086391994%2C%22action_history%22%3A%22%5B%7B%5C%22surface%5C%22%3A%5C%22permalink%5C%22%2C%5C%22mechanism%5C%22%3A%5C%22RHC%5C%22%2C%5C%22extra_data%5C%22%3A%5B%5D%7D%2C%7B%5C%22surface%5C%22%3A%5C%22permalink%5C%22%2C%5C%22mechanism%5C%22%3A%5C%22surface%5C%22%2C%5C%22extra_data%5C%22%3A%5B%5D%7D%2C%7B%5C%22surface%5C%22%3A%5C%22permalink%5C%22%2C%5C%22mechanism%5C%22%3A%5C%22event_information%5C%22%2C%5C%22extra_data%5C%22%3A%7B%5C%22tag%5C%22%3A%5C%22Art%5C%22%7D%7D%5D%22%2C%22has_source%22%3Atrue%7D&amp\;suggestion_token=%7B%22event_categories%22%3A%5B1116111648515721%5D%7D" style="color: rgb(54\, 88\, 153)\; cursor: pointer\; text-decoration-line: none\; font-family: inherit\;"><span class="_47od" style="background-color: rgb(237\, 242\, 250)\; border-radius: 2px\; color: rgb(32\, 55\, 95)\; display: block\; height: 14px\; line-height: 14px\; margin: 0px 4px 4px 0px\; padding: 4px 6px\; position: relative\; font-family: inherit\;">Art</span></a></li>\n	<li style="border-width: 0px 0px 0px 1px\; display: inline-block\; vertical-align: top\;"><a href="https://www.facebook.com/events/discovery/?acontext=%7B%22ref%22%3A44%2C%22unit_ref%22%3A%22related_events%22%2C%22source%22%3A1%2C%22is_sponsored%22%3Atrue%2C%22ad_creator_id%22%3A100000086391994%2C%22action_history%22%3A%22%5B%7B%5C%22surface%5C%22%3A%5C%22permalink%5C%22%2C%5C%22mechanism%5C%22%3A%5C%22RHC%5C%22%2C%5C%22extra_data%5C%22%3A%5B%5D%7D%2C%7B%5C%22surface%5C%22%3A%5C%22permalink%5C%22%2C%5C%22mechanism%5C%22%3A%5C%22surface%5C%22%2C%5C%22extra_data%5C%22%3A%5B%5D%7D%2C%7B%5C%22surface%5C%22%3A%5C%22permalink%5C%22%2C%5C%22mechanism%5C%22%3A%5C%22event_information%5C%22%2C%5C%22extra_data%5C%22%3A%7B%5C%22tag%5C%22%3A%5C%22Painting%5C%22%7D%7D%5D%22%2C%22has_source%22%3Atrue%7D&amp\;suggestion_token=%7B%22tags%22%3A%5B1331812046883656%5D%7D" style="color: rgb(54\, 88\, 153)\; cursor: pointer\; text-decoration-line: none\; font-family: inherit\;"><span class="_47od" style="background-color: rgb(237\, 242\, 250)\; border-radius: 2px\; color: rgb(32\, 55\, 95)\; display: block\; height: 14px\; line-height: 14px\; margin: 0px 4px 4px 0px\; padding: 4px 6px\; position: relative\; font-family: inherit\;">Painting</span></a></li>\n</ul>\n</div>\n
LOCATION:Harbor City Women 1700 Cherry St. Aberdeen
UID:e.26.8284
SEQUENCE:3
DTSTAMP:20260425T181003Z
URL:https://chamber.graysharbor.org/events/details/coffee-canvas-8284
END:VEVENT

END:VCALENDAR
