BEGIN:VCALENDAR
VERSION:2.0
PRODID:-//ChamberMaster//Event Calendar 2.0//EN
METHOD:PUBLISH
X-PUBLISHED-TTL:P3D
REFRESH-INTERVAL:P3D
CALSCALE:GREGORIAN
BEGIN:VEVENT
DTSTART:20191107T020000Z
DTEND:20191107T050000Z
X-MICROSOFT-CDO-ALLDAYEVENT:FALSE
SUMMARY:Coffee + Holiday Shop at Juniper Tree
DESCRIPTION:Grab a seasonal beverage from Brass Hub Coffeebar and treat before popping over to Juniper Tree to shop the latest inventory and hit some amazing sales! Fresh from LA\, the new inventory will make up the perfect opportunity to kick off your holiday shopping. $5 cover charge includes a beverage of your choice from the Brass Hub Coffeebar\, snacks\, and the opportunity to get in on the sales at Juniper Tree and shop with other local vendors. Bring a friend and join us from 6-9pm.
X-ALT-DESC;FMTTYPE=text/html:<span style="caret-color: rgb(29\, 33\, 41)\; color: rgb(29\, 33\, 41)\; font-family: system-ui\, -apple-system\, BlinkMacSystemFont\, &quot\;.SFNSText-Regular&quot\;\, sans-serif\; font-size: 14px\; white-space: pre-wrap\;">Grab a seasonal beverage from Brass Hub Coffeebar and treat before popping over to Juniper Tree to shop the latest inventory and hit some amazing sales! Fresh from LA\, the new inventory will make up the perfect opportunity to kick off your holiday shopping. $5 cover charge includes a beverage of your choice from the Brass Hub Coffeebar\, snacks\, and the opportunity to get in on the sales at Juniper Tree and shop with other local vendors. Bring a friend and join us from 6-9pm.</span>
LOCATION:pin Juniper Tree 1101 1st Street\, Cosmopolis\, Washington 98537
UID:e.26.12268
SEQUENCE:3
DTSTAMP:20260424T041950Z
URL:https://chamber.graysharbor.org/events/details/coffee-holiday-shop-at-juniper-tree-12268
END:VEVENT

END:VCALENDAR
