BEGIN:VCALENDAR
VERSION:2.0
PRODID:-//ChamberMaster//Event Calendar 2.0//EN
METHOD:PUBLISH
X-PUBLISHED-TTL:P3D
REFRESH-INTERVAL:P3D
CALSCALE:GREGORIAN
BEGIN:VEVENT
DTSTART:20190621T000000Z
DTEND:20190621T010000Z
X-MICROSOFT-CDO-ALLDAYEVENT:FALSE
SUMMARY:Coffee with a Cop
DESCRIPTION:Join Elma Police Chief\, Susan Shultz\, at the new Elma Starbucks on June 20th from 5-6pm!
X-ALT-DESC;FMTTYPE=text/html:Join Elma Police Chief\, Susan Shultz\, at the new Elma Starbucks on June 20th from 5-6pm!
LOCATION:Elma Starbucks 11 Eagle Drive Suite A
UID:e.26.12046
SEQUENCE:3
DTSTAMP:20260424T114943Z
URL:https://chamber.graysharbor.org/events/details/coffee-with-a-cop-12046
END:VEVENT

END:VCALENDAR
