BEGIN:VCALENDAR
VERSION:2.0
PRODID:-//ChamberMaster//Event Calendar 2.0//EN
METHOD:PUBLISH
X-PUBLISHED-TTL:P3D
REFRESH-INTERVAL:P3D
CALSCALE:GREGORIAN
BEGIN:VEVENT
DTSTART:20190524T030000Z
DTEND:20190524T050000Z
X-MICROSOFT-CDO-ALLDAYEVENT:FALSE
SUMMARY:Comedy MOB Night of Laughs & Brews
DESCRIPTION:Come join Chelsea Tolle\, Todd Kirkwood\, Jaci Terjeson & Andrew Frank at Mount Olympus Brewing Company on May 23rd for a night of laughs and brews. \n\n\n\nHost & MC: "AHS Class Clown 2004" Chelsea Tolle\n\nThe Woman\, The Myth\, The Legend\, Aberdeen Native Chelsea Tolle returns for one night only to showcase her already flourishing comedy career. Only a year in the game\, Chelsea has already been the finalist in numerous Seattle comedy competitions and opened for various national headlining comedians\, such as Craig Gass and Susan Jones. Most recently she went on the road and featured for The Smash Brother. Chelsea is also set to audition for Standup NBC in a few short weeks. So come watch her host the crap out of this show before she becomes uber famous. Chelsea describes herself as a broken but shiny Skipper Doll (as she was never pretty enough to be Barbie). Her depraved take on life after small-town beginnings will have you wetting yourself and begging for more. \n\n\n\nhttps://youtu.be/PG1p6g0ZH1c\n\n\n\nHeadliner: Andrew Frank\n\nAndrew Frank is a comedian based out of Seattle. His cerebral\, imaginative style and relentless ethic have resulted in ten nationwide tours spanning a total of 212 cities. His love of language\, philosophy\, sociology\, biology\, psychology\, anthropology\, and cosmology are on full display each time he takes the stage. He was the Winner of Make Me Laugh 2015\, The Winner of Go Bananas Comedy Club's Funniest in Cincinnati 2016\, the Runner Up in Trial By Laughter 2015\, and Runner Up in Helium's Funniest in St. Louis 2016. He was one of 32 comedians selected to participate in the 38th Annual Seattle International Comedy Competition. He has performed at the Laughing Devil Festival in New York City\, Cape Fear Comedy Festival\, Cleveland Comedy Festival\, Cincinnati Brew Haha\, MidWest Fest\, Hoboken Comedy Festival\, New Jersey FunnyFest\, St. Louis Fringe Festival\, Flyover Comedy Festival\, Pittsburgh Fringe Festival\, has headlined the Milwaukee Comedy Festival\, finished 4th place in the 2018 World Series of Comedy-Main Event\, and headlined seven shows at the Edmonton International Fringe Festival. He was recently named one of the Best Undiscovered Comedians in America by Thrillist\, and just returned from a tour of France\, Germany\, Austria\, Czech Republic\, Slovakia\, and Estonia. His first independently filmed hour special is entitled Macrocosm\, and may be seen for free on YouTube. \n\n\n\nhttps://youtu.be/Fsj8R6gE27U\n\n\n\nhttps://www.google.com/amp/s/edmontonjournal.com/entertainment/festivals/fringe-review-andrew-frank-macrocosm/amp\n\n\n\nFeatures:\n\nTodd Kirkwood\n\nTodd Kirkwood brings laughter and fun wherever he goes. Joking about his Mexican heritage and life in the Northwest\, Todd brings a natural wit and a warm smile to the stage. Originally from the High Desert of Southern California\, now a long term Seattle resident\, his west coast style of comedy is relaxing and engaging. Join him for a memorable night\, a few beers\, and tons of laughs.\n\n\n\nJaci Terjeson\n\nJaci Terjeson is a Tacoma based comedian that travels around the PNW sharing far too much with complete strangers. She's often seen giving unsolicited parenting advice and telling people they have something in their teeth. She is in demand as a host all over Seattle\, regularly appearing at Club Comedy\, The Nest and features on shows like Don't Tell and Comedy Clash. Her lovable style has been known to soften even the hardest of hearts with a triumphant delight that says\, "You CAN sit with us!! As soon as you pick the spinach out of your teeth."
X-ALT-DESC;FMTTYPE=text/html:<span style="caret-color: rgb(29\, 33\, 41)\; color: rgb(29\, 33\, 41)\; font-family: system-ui\, -apple-system\, BlinkMacSystemFont\, &quot\;.SFNSText-Regular&quot\;\, sans-serif\; font-size: 14px\; white-space: pre-wrap\;">Come join Chelsea Tolle\, Todd Kirkwood\, Jaci Terjeson &amp\; Andrew Frank at Mount Olympus Brewing Company on May 23rd for a night of laughs and brews. </span><br style="caret-color: rgb(29\, 33\, 41)\; color: rgb(29\, 33\, 41)\; font-family: system-ui\, -apple-system\, BlinkMacSystemFont\, &quot\;.SFNSText-Regular&quot\;\, sans-serif\; font-size: 14px\; white-space: pre-wrap\;" />\n<br style="caret-color: rgb(29\, 33\, 41)\; color: rgb(29\, 33\, 41)\; font-family: system-ui\, -apple-system\, BlinkMacSystemFont\, &quot\;.SFNSText-Regular&quot\;\, sans-serif\; font-size: 14px\; white-space: pre-wrap\;" />\n<span style="caret-color: rgb(29\, 33\, 41)\; color: rgb(29\, 33\, 41)\; font-family: system-ui\, -apple-system\, BlinkMacSystemFont\, &quot\;.SFNSText-Regular&quot\;\, sans-serif\; font-size: 14px\; white-space: pre-wrap\;">Host &amp\; MC: &quot\;AHS Class Clown 2004&quot\; Chelsea Tolle</span><br style="caret-color: rgb(29\, 33\, 41)\; color: rgb(29\, 33\, 41)\; font-family: system-ui\, -apple-system\, BlinkMacSystemFont\, &quot\;.SFNSText-Regular&quot\;\, sans-serif\; font-size: 14px\; white-space: pre-wrap\;" />\n<span style="caret-color: rgb(29\, 33\, 41)\; color: rgb(29\, 33\, 41)\; font-family: system-ui\, -apple-system\, BlinkMacSystemFont\, &quot\;.SFNSText-Regular&quot\;\, sans-serif\; font-size: 14px\; white-space: pre-wrap\;">The Woman\, The Myth\, The Legend\, Aberdeen Native Chelsea Tolle returns for one night only to showcase her already flourishing comedy career. Only a year in the game\, Chelsea has already been the finalist in numerous Seattle comedy competitions and opened for various national headlining comedians\, such as Craig Gass and Susan Jones. Most recently she went on the road and featured for The Smash Brother. Chelsea is also set to audition for Standup NBC in a few short weeks. So come watch her host the crap out of this show before she becomes uber famous. Chelsea describes herself as a broken but shiny Skipper Doll (as she was never pretty enough to be Barbie). Her depraved take on life after small-town beginnings will have you wetting yourself and begging for more. </span><br style="caret-color: rgb(29\, 33\, 41)\; color: rgb(29\, 33\, 41)\; font-family: system-ui\, -apple-system\, BlinkMacSystemFont\, &quot\;.SFNSText-Regular&quot\;\, sans-serif\; font-size: 14px\; white-space: pre-wrap\;" />\n<br style="caret-color: rgb(29\, 33\, 41)\; color: rgb(29\, 33\, 41)\; font-family: system-ui\, -apple-system\, BlinkMacSystemFont\, &quot\;.SFNSText-Regular&quot\;\, sans-serif\; font-size: 14px\; white-space: pre-wrap\;" />\n<a data-lynx-mode="hover" href="https://l.facebook.com/l.php?u=https%3A%2F%2Fyoutu.be%2FPG1p6g0ZH1c%3Ffbclid%3DIwAR3ZRfpKm7RSfNliqALVCDK1gncKEfWP7vSQbtxi4fBwMIMLCPWpSdZW3gE&amp\;h=AT3UxHISvGoGZp1AxvkxcunRWlSwyMyvz75swHmUPmi4yuIOjL1Ij2YP8vqYNUvdNQyEnaDSHBWtAyUfq64ixEHxAGRCWQf1CbjXLVzK37PIlxFCba0HI1DvhEpT6nb-wfhNr6zvgw" rel="nofollow noopener" style="color: rgb(56\, 88\, 152)\; cursor: pointer\; text-decoration: none\; font-family: system-ui\, -apple-system\, BlinkMacSystemFont\, &quot\;.SFNSText-Regular&quot\;\, sans-serif\; font-size: 14px\; white-space: pre-wrap\;" target="_blank">https://youtu.be/PG1p6g0ZH1c</a><br style="caret-color: rgb(29\, 33\, 41)\; color: rgb(29\, 33\, 41)\; font-family: system-ui\, -apple-system\, BlinkMacSystemFont\, &quot\;.SFNSText-Regular&quot\;\, sans-serif\; font-size: 14px\; white-space: pre-wrap\;" />\n<br style="caret-color: rgb(29\, 33\, 41)\; color: rgb(29\, 33\, 41)\; font-family: system-ui\, -apple-system\, BlinkMacSystemFont\, &quot\;.SFNSText-Regular&quot\;\, sans-serif\; font-size: 14px\; white-space: pre-wrap\;" />\n<span style="caret-color: rgb(29\, 33\, 41)\; color: rgb(29\, 33\, 41)\; font-family: system-ui\, -apple-system\, BlinkMacSystemFont\, &quot\;.SFNSText-Regular&quot\;\, sans-serif\; font-size: 14px\; white-space: pre-wrap\;">Headliner: Andrew Frank</span><br style="caret-color: rgb(29\, 33\, 41)\; color: rgb(29\, 33\, 41)\; font-family: system-ui\, -apple-system\, BlinkMacSystemFont\, &quot\;.SFNSText-Regular&quot\;\, sans-serif\; font-size: 14px\; white-space: pre-wrap\;" />\n<span style="caret-color: rgb(29\, 33\, 41)\; color: rgb(29\, 33\, 41)\; font-family: system-ui\, -apple-system\, BlinkMacSystemFont\, &quot\;.SFNSText-Regular&quot\;\, sans-serif\; font-size: 14px\; white-space: pre-wrap\;">Andrew Frank is a comedian based out of Seattle. His cerebral\, imaginative style and relentless ethic have resulted in ten nationwide tours spanning a total of 212 cities. His love of language\, philosophy\, sociology\, biology\, psychology\, anthropology\, and cosmology are on full display each time he takes the stage. He was the Winner of Make Me Laugh 2015\, The Winner of Go Bananas Comedy Club&#39\;s Funniest in Cincinnati 2016\, the Runner Up in Trial By Laughter 2015\, and Runner Up in Helium&#39\;s Funniest in St. Louis 2016. He was one of 32 comedians selected to participate in the 38th Annual Seattle International Comedy Competition. He has performed at the Laughing Devil Festival in New York City\, Cape Fear Comedy Festival\, Cleveland Comedy Festival\, Cincinnati Brew Haha\, MidWest Fest\, Hoboken Comedy Festival\, New Jersey FunnyFest\, St. Louis Fringe Festival\, Flyover Comedy Festival\, Pittsburgh Fringe Festival\, has headlined the Milwaukee Comedy Festival\, finished 4th place in the 2018 World Series of Comedy-Main Event\, and headlined seven shows at the Edmonton International Fringe Festival. He was recently named one of the Best Undiscovered Comedians in America by Thrillist\, and just returned from a tour of France\, Germany\, Austria\, Czech Republic\, Slovakia\, and Estonia. His first independently filmed hour special is entitled Macrocosm\, and may be seen for free on YouTube. </span><br style="caret-color: rgb(29\, 33\, 41)\; color: rgb(29\, 33\, 41)\; font-family: system-ui\, -apple-system\, BlinkMacSystemFont\, &quot\;.SFNSText-Regular&quot\;\, sans-serif\; font-size: 14px\; white-space: pre-wrap\;" />\n<br style="caret-color: rgb(29\, 33\, 41)\; color: rgb(29\, 33\, 41)\; font-family: system-ui\, -apple-system\, BlinkMacSystemFont\, &quot\;.SFNSText-Regular&quot\;\, sans-serif\; font-size: 14px\; white-space: pre-wrap\;" />\n<a data-lynx-mode="hover" href="https://l.facebook.com/l.php?u=https%3A%2F%2Fyoutu.be%2FFsj8R6gE27U%3Ffbclid%3DIwAR2hXu42tKgSxAjpLLgc1qri27FX3hS-sx74cR6fyL0HWU97oXw-uI5KCPE&amp\;h=AT0t1rZzYjWmUD3yqp1pqbsee0GaWtz8ijH-JqHmlES-tpuqO1rpI8EGMOgfQqwY18X9sKrLXTvbY7-_vGRspx1uUhXv8GAZO2n2HcQsmtISrX0kV-cqc8QmtJnt85iAEcts3OnUsg" rel="nofollow noopener" style="color: rgb(56\, 88\, 152)\; cursor: pointer\; text-decoration: none\; font-family: system-ui\, -apple-system\, BlinkMacSystemFont\, &quot\;.SFNSText-Regular&quot\;\, sans-serif\; font-size: 14px\; white-space: pre-wrap\;" target="_blank">https://youtu.be/Fsj8R6gE27U</a><br style="caret-color: rgb(29\, 33\, 41)\; color: rgb(29\, 33\, 41)\; font-family: system-ui\, -apple-system\, BlinkMacSystemFont\, &quot\;.SFNSText-Regular&quot\;\, sans-serif\; font-size: 14px\; white-space: pre-wrap\;" />\n<br style="caret-color: rgb(29\, 33\, 41)\; color: rgb(29\, 33\, 41)\; font-family: system-ui\, -apple-system\, BlinkMacSystemFont\, &quot\;.SFNSText-Regular&quot\;\, sans-serif\; font-size: 14px\; white-space: pre-wrap\;" />\n<a data-lynx-mode="hover" href="https://l.facebook.com/l.php?u=https%3A%2F%2Fwww.google.com%2Famp%2Fs%2Fedmontonjournal.com%2Fentertainment%2Ffestivals%2Ffringe-review-andrew-frank-macrocosm%2Famp%3Ffbclid%3DIwAR3DVvjVX2rk-gWdDL_vnNqA3d-N9mjDCqUIo1Z6FzNFy_SgtVFPq4_hMjI&amp\;h=AT0pjsV7en7g8AykHpp7qF-1h-SRyBDoRzOFLBMsQ03kw1WyDEYsAA4vpd5cN7skU7af_vu0wXwEkWSd4UGoVX5Oa0MThN2mlrxhPCJ8Yp1o6awJRgdgmm1S7ojOTKRQ0xmLw6f0Zg" rel="nofollow noopener" style="color: rgb(56\, 88\, 152)\; cursor: pointer\; text-decoration: none\; font-family: system-ui\, -apple-system\, BlinkMacSystemFont\, &quot\;.SFNSText-Regular&quot\;\, sans-serif\; font-size: 14px\; white-space: pre-wrap\;" target="_blank">https://www.google.com/amp/s/edmontonjournal.com/entertainment/festivals/fringe-review-andrew-frank-macrocosm/amp</a><br style="caret-color: rgb(29\, 33\, 41)\; color: rgb(29\, 33\, 41)\; font-family: system-ui\, -apple-system\, BlinkMacSystemFont\, &quot\;.SFNSText-Regular&quot\;\, sans-serif\; font-size: 14px\; white-space: pre-wrap\;" />\n<br style="caret-color: rgb(29\, 33\, 41)\; color: rgb(29\, 33\, 41)\; font-family: system-ui\, -apple-system\, BlinkMacSystemFont\, &quot\;.SFNSText-Regular&quot\;\, sans-serif\; font-size: 14px\; white-space: pre-wrap\;" />\n<span style="caret-color: rgb(29\, 33\, 41)\; color: rgb(29\, 33\, 41)\; font-family: system-ui\, -apple-system\, BlinkMacSystemFont\, &quot\;.SFNSText-Regular&quot\;\, sans-serif\; font-size: 14px\; white-space: pre-wrap\;">Features:</span><br style="caret-color: rgb(29\, 33\, 41)\; color: rgb(29\, 33\, 41)\; font-family: system-ui\, -apple-system\, BlinkMacSystemFont\, &quot\;.SFNSText-Regular&quot\;\, sans-serif\; font-size: 14px\; white-space: pre-wrap\;" />\n<span style="caret-color: rgb(29\, 33\, 41)\; color: rgb(29\, 33\, 41)\; font-family: system-ui\, -apple-system\, BlinkMacSystemFont\, &quot\;.SFNSText-Regular&quot\;\, sans-serif\; font-size: 14px\; white-space: pre-wrap\;">Todd Kirkwood</span><br style="caret-color: rgb(29\, 33\, 41)\; color: rgb(29\, 33\, 41)\; font-family: system-ui\, -apple-system\, BlinkMacSystemFont\, &quot\;.SFNSText-Regular&quot\;\, sans-serif\; font-size: 14px\; white-space: pre-wrap\;" />\n<span style="caret-color: rgb(29\, 33\, 41)\; color: rgb(29\, 33\, 41)\; font-family: system-ui\, -apple-system\, BlinkMacSystemFont\, &quot\;.SFNSText-Regular&quot\;\, sans-serif\; font-size: 14px\; white-space: pre-wrap\;">Todd Kirkwood brings laughter and fun wherever he goes. Joking about his Mexican heritage and life in the Northwest\, Todd brings a natural wit and a warm smile to the stage. Originally from the High Desert of Southern California\, now a long term Seattle resident\, his west coast style of comedy is relaxing and engaging. Join him for a memorable night\, a few beers\, and tons of laughs.</span><br style="caret-color: rgb(29\, 33\, 41)\; color: rgb(29\, 33\, 41)\; font-family: system-ui\, -apple-system\, BlinkMacSystemFont\, &quot\;.SFNSText-Regular&quot\;\, sans-serif\; font-size: 14px\; white-space: pre-wrap\;" />\n<br style="caret-color: rgb(29\, 33\, 41)\; color: rgb(29\, 33\, 41)\; font-family: system-ui\, -apple-system\, BlinkMacSystemFont\, &quot\;.SFNSText-Regular&quot\;\, sans-serif\; font-size: 14px\; white-space: pre-wrap\;" />\n<span style="caret-color: rgb(29\, 33\, 41)\; color: rgb(29\, 33\, 41)\; font-family: system-ui\, -apple-system\, BlinkMacSystemFont\, &quot\;.SFNSText-Regular&quot\;\, sans-serif\; font-size: 14px\; white-space: pre-wrap\;">Jaci Terjeson</span><br style="caret-color: rgb(29\, 33\, 41)\; color: rgb(29\, 33\, 41)\; font-family: system-ui\, -apple-system\, BlinkMacSystemFont\, &quot\;.SFNSText-Regular&quot\;\, sans-serif\; font-size: 14px\; white-space: pre-wrap\;" />\n<span style="caret-color: rgb(29\, 33\, 41)\; color: rgb(29\, 33\, 41)\; font-family: system-ui\, -apple-system\, BlinkMacSystemFont\, &quot\;.SFNSText-Regular&quot\;\, sans-serif\; font-size: 14px\; white-space: pre-wrap\;">Jaci Terjeson is a Tacoma based comedian that travels around the PNW sharing far too much with complete strangers. She&rsquo\;s often seen giving unsolicited parenting advice and telling people they have something in their teeth. She is in demand as a host all over Seattle\, regularly appearing at Club Comedy\, The Nest and features on shows like Don&#39\;t Tell and Comedy Clash. Her lovable style has been known to soften even the hardest of hearts with a triumphant delight that says\, &ldquo\;You CAN sit with us!! As soon as you pick the spinach out of your teeth.&rdquo\;</span>
LOCATION:pin Mount Olympus Brewing Company 105 W HERON ST\, Aberdeen\, Washington 98520
UID:e.26.12014
SEQUENCE:3
DTSTAMP:20260424T150522Z
URL:https://chamber.graysharbor.org/events/details/comedy-mob-night-of-laughs-brews-12014
END:VEVENT

END:VCALENDAR
