BEGIN:VCALENDAR
VERSION:2.0
PRODID:-//ChamberMaster//Event Calendar 2.0//EN
METHOD:PUBLISH
X-PUBLISHED-TTL:P3D
REFRESH-INTERVAL:P3D
CALSCALE:GREGORIAN
BEGIN:VEVENT
DTSTART:20190403T180000Z
DTEND:20190403T230000Z
X-MICROSOFT-CDO-ALLDAYEVENT:FALSE
SUMMARY:Commissioner Interest Forums
DESCRIPTION:Are you interested in shaping healthcare in your county? Consider becoming a commissioner in your hospital district. \n\n\n\nSummit Pacific and Grays Harbor Community are teaming up to host two free community events\, both specifically focused on helping you understand the role of hospital commissioners. \n\n\n\nCommunity members can expect to learn about public hospital districts\, governance\, roles and responsibilities of hospital commissioners\, hospital district commissioner eligibility\, and the appointment process.\n\n\n\nTom Jensen\, CEO of GHCH along with Josh Martin\, CEO of SPMC\, current members of both hospital boards and Ben Lindekugel\, Executive Director of the Association of Washington Public Hospital Districts will be presenting at both events. Community members are welcome to attend either of the identical forums. \n\n\n\nFor more information contact Jori Stott of Summit Pacific\, 360-346-2280 or Teresa Ramirez of Grays Harbor Community\, 360-537-5117.
X-ALT-DESC;FMTTYPE=text/html:<span style="caret-color: rgb(29\, 33\, 41)\; color: rgb(29\, 33\, 41)\; font-family: system-ui\, -apple-system\, BlinkMacSystemFont\, &quot\;.SFNSText-Regular&quot\;\, sans-serif\; font-size: 14px\; white-space: pre-wrap\;">Are you interested in shaping healthcare in your county? Consider becoming a commissioner in your hospital district. </span><br style="caret-color: rgb(29\, 33\, 41)\; color: rgb(29\, 33\, 41)\; font-family: system-ui\, -apple-system\, BlinkMacSystemFont\, &quot\;.SFNSText-Regular&quot\;\, sans-serif\; font-size: 14px\; white-space: pre-wrap\;" />\n<br style="caret-color: rgb(29\, 33\, 41)\; color: rgb(29\, 33\, 41)\; font-family: system-ui\, -apple-system\, BlinkMacSystemFont\, &quot\;.SFNSText-Regular&quot\;\, sans-serif\; font-size: 14px\; white-space: pre-wrap\;" />\n<span style="caret-color: rgb(29\, 33\, 41)\; color: rgb(29\, 33\, 41)\; font-family: system-ui\, -apple-system\, BlinkMacSystemFont\, &quot\;.SFNSText-Regular&quot\;\, sans-serif\; font-size: 14px\; white-space: pre-wrap\;">Summit Pacific and Grays Harbor Community are teaming up to host two free community events\, both specifically focused on helping you understand the role of hospital commissioners. </span><br style="caret-color: rgb(29\, 33\, 41)\; color: rgb(29\, 33\, 41)\; font-family: system-ui\, -apple-system\, BlinkMacSystemFont\, &quot\;.SFNSText-Regular&quot\;\, sans-serif\; font-size: 14px\; white-space: pre-wrap\;" />\n<br style="caret-color: rgb(29\, 33\, 41)\; color: rgb(29\, 33\, 41)\; font-family: system-ui\, -apple-system\, BlinkMacSystemFont\, &quot\;.SFNSText-Regular&quot\;\, sans-serif\; font-size: 14px\; white-space: pre-wrap\;" />\n<span style="caret-color: rgb(29\, 33\, 41)\; color: rgb(29\, 33\, 41)\; font-family: system-ui\, -apple-system\, BlinkMacSystemFont\, &quot\;.SFNSText-Regular&quot\;\, sans-serif\; font-size: 14px\; white-space: pre-wrap\;">Community members can expect to learn about public hospital districts\, governance\, roles and responsibilities of hospital commissioners\, hospital district commissioner eligibility\, and the appointment process.</span><br style="caret-color: rgb(29\, 33\, 41)\; color: rgb(29\, 33\, 41)\; font-family: system-ui\, -apple-system\, BlinkMacSystemFont\, &quot\;.SFNSText-Regular&quot\;\, sans-serif\; font-size: 14px\; white-space: pre-wrap\;" />\n<br style="caret-color: rgb(29\, 33\, 41)\; color: rgb(29\, 33\, 41)\; font-family: system-ui\, -apple-system\, BlinkMacSystemFont\, &quot\;.SFNSText-Regular&quot\;\, sans-serif\; font-size: 14px\; white-space: pre-wrap\;" />\n<span style="caret-color: rgb(29\, 33\, 41)\; color: rgb(29\, 33\, 41)\; font-family: system-ui\, -apple-system\, BlinkMacSystemFont\, &quot\;.SFNSText-Regular&quot\;\, sans-serif\; font-size: 14px\; white-space: pre-wrap\;">Tom Jensen\, CEO of GHCH along with Josh Martin\, CEO of SPMC\, current members of both hospital boards and Ben Lindekugel\, Executive Director of the Association of Washington Public Hospital Districts will be presenting at both events. Community members are welcome to attend either of the identical forums. </span><br style="caret-color: rgb(29\, 33\, 41)\; color: rgb(29\, 33\, 41)\; font-family: system-ui\, -apple-system\, BlinkMacSystemFont\, &quot\;.SFNSText-Regular&quot\;\, sans-serif\; font-size: 14px\; white-space: pre-wrap\;" />\n<br style="caret-color: rgb(29\, 33\, 41)\; color: rgb(29\, 33\, 41)\; font-family: system-ui\, -apple-system\, BlinkMacSystemFont\, &quot\;.SFNSText-Regular&quot\;\, sans-serif\; font-size: 14px\; white-space: pre-wrap\;" />\n<span style="caret-color: rgb(29\, 33\, 41)\; color: rgb(29\, 33\, 41)\; font-family: system-ui\, -apple-system\, BlinkMacSystemFont\, &quot\;.SFNSText-Regular&quot\;\, sans-serif\; font-size: 14px\; white-space: pre-wrap\;">For more information contact Jori Stott of Summit Pacific\, 360-346-2280 or Teresa Ramirez of Grays Harbor Community\, 360-537-5117. </span>
LOCATION:
UID:e.26.11911
SEQUENCE:3
DTSTAMP:20260424T150745Z
URL:https://chamber.graysharbor.org/events/details/commissioner-interest-forums-11911
END:VEVENT

END:VCALENDAR
