BEGIN:VCALENDAR
VERSION:2.0
PRODID:-//ChamberMaster//Event Calendar 2.0//EN
METHOD:PUBLISH
X-PUBLISHED-TTL:P3D
REFRESH-INTERVAL:P3D
CALSCALE:GREGORIAN
BEGIN:VEVENT
DTSTART:20170510T003000Z
DTEND:20170510T023000Z
X-MICROSOFT-CDO-ALLDAYEVENT:FALSE
SUMMARY:Community Bunko
DESCRIPTION:Bunco fun for everyone !!!
X-ALT-DESC;FMTTYPE=text/html:Bunco fun for everyone !!!
LOCATION:Aberdeen Senior Center 117 E. 3rd st Aberdeen\,wa
UID:e.26.5887
SEQUENCE:3
DTSTAMP:20260426T032643Z
URL:https://chamber.graysharbor.org/events/details/community-bunko-05-09-2017-5887
END:VEVENT

END:VCALENDAR
