BEGIN:VCALENDAR
VERSION:2.0
PRODID:-//ChamberMaster//Event Calendar 2.0//EN
METHOD:PUBLISH
X-PUBLISHED-TTL:P3D
REFRESH-INTERVAL:P3D
CALSCALE:GREGORIAN
BEGIN:VEVENT
DTSTART:20200705T030000Z
DTEND:20200705T050000Z
X-MICROSOFT-CDO-ALLDAYEVENT:FALSE
SUMMARY:Community Drive-In Laser Light Show
DESCRIPTION:Free Community Drive-In Laser Light Show at Sonshine Park/Immanuel Baptist Church on the 4th of July!
X-ALT-DESC;FMTTYPE=text/html:<span style="font-size:14px\;"><span style="caret-color: rgb(0\, 0\, 0)\; color: rgb(0\, 0\, 0)\; font-family: Arial\, sans-serif\;">Free Community Drive-In Laser Light Show at&nbsp\;</span></span><span style="caret-color: rgb(0\, 0\, 0)\; color: rgb(0\, 0\, 0)\; font-family: Arial\, sans-serif\; font-size: 14px\;">Sonshine Park/Immanuel Baptist Church on the 4th of July!</span>
LOCATION:Sonshine Park/Immanuel Baptist Church\, 1200 Soule Ave. Hoquiam
UID:e.26.12479
SEQUENCE:3
DTSTAMP:20260424T120041Z
URL:https://chamber.graysharbor.org/events/details/community-drive-in-laser-light-show-12479
END:VEVENT

END:VCALENDAR
