BEGIN:VCALENDAR
VERSION:2.0
PRODID:-//ChamberMaster//Event Calendar 2.0//EN
METHOD:PUBLISH
X-PUBLISHED-TTL:P3D
REFRESH-INTERVAL:P3D
CALSCALE:GREGORIAN
BEGIN:VEVENT
DTSTART:20170725T230000Z
DTEND:20170726T000000Z
X-MICROSOFT-CDO-ALLDAYEVENT:FALSE
SUMMARY:Community Education Dinner: Advance Care Planning
DESCRIPTION:oin us for our July Community Education Dinner! The topic is Advance Care Planning and our speaker\, Mary Ellen Biggerstaff\, DNP\, is a primary care provider at Summit Pacific Healthcare Clinic in Elma.\n\n\n\nMary Ellen will be speaking about the importance of having our medical wishes known with those we love throughout all stages of our lives.\n\n\n\nAn Advance Directive is a written statement of your wishes regarding medical treatment\, often including a living will\, made to ensure those wishes are carried out should you be unable to communicate them. Advance Directives also ensure that your loved ones are not burdened with making stressful decisions.\n\n\n\nGuests will be treated to complimentary dinner from Caf  Salute! No RSVP required.
X-ALT-DESC;FMTTYPE=text/html:<span class="_4n-j _fbReactionComponent__eventDetailsContentTags fsl" data-testid="event-permalink-details">oin us for our July Community Education Dinner! The topic is Advance Care Planning and our speaker\, Mary Ellen Biggerstaff\, DNP\, is a primary care provider at Summit Pacific Healthcare Clinic in Elma.<br />\n<br />\nMary Ellen will be speaking about the importance of having our medical wishes known with those we love throughout all stages of our lives.<br />\n<br />\nAn Advance Directive is a written statement of your wishes regarding medical treatment\, often including a living will\, made to ensure those wishes are carried out should you be unable to communicate them. Advance Directives also ensure that your loved ones are not burdened with making stressful decisions.<br />\n<br />\nGuests will be treated to complimentary dinner from Caf&eacute\; Salute! No RSVP required.</span>
LOCATION:Summit Pacific Medical Center 600 East Main St. Elma\, WA 98541
UID:e.26.8055
SEQUENCE:3
DTSTAMP:20260426T003127Z
URL:https://chamber.graysharbor.org/events/details/community-education-dinner-advance-care-planning-8055
END:VEVENT

END:VCALENDAR
