BEGIN:VCALENDAR
VERSION:2.0
PRODID:-//ChamberMaster//Event Calendar 2.0//EN
METHOD:PUBLISH
X-PUBLISHED-TTL:P3D
REFRESH-INTERVAL:P3D
CALSCALE:GREGORIAN
BEGIN:VEVENT
DTSTART:20170829T230000Z
DTEND:20170830T000000Z
X-MICROSOFT-CDO-ALLDAYEVENT:FALSE
SUMMARY:Community Education Dinner: Nutrition for All Ages
DESCRIPTION:Join us for our August Community Education Dinner! This month\, as families are focused on getting back into their school routines\, we will be focusing on nutrition.\n\n\n\nDr. Justin Taylor and SPMC's chef\, Brandon Smith will be providing a cooking demo\, discussing the ways in which nutrition affects our health and offering quick and healthy meal ideas!\n\n\n\nGuests will be treated to complimentary dinner from Caf  Salute! No RSVP required.
X-ALT-DESC;FMTTYPE=text/html:<span style="color: rgb(75\, 79\, 86)\; font-family: Helvetica\, Arial\, sans-serif\; font-size: 14px\; background-color: rgb(255\, 255\, 255)\;">Join us for our August Community Education Dinner! This month\, as families are focused on getting back into their school routines\, we will be focusing on nutrition.</span><br style="color: rgb(75\, 79\, 86)\; font-family: Helvetica\, Arial\, sans-serif\; font-size: 14px\; background-color: rgb(255\, 255\, 255)\;" />\n<br style="color: rgb(75\, 79\, 86)\; font-family: Helvetica\, Arial\, sans-serif\; font-size: 14px\; background-color: rgb(255\, 255\, 255)\;" />\n<span style="color: rgb(75\, 79\, 86)\; font-family: Helvetica\, Arial\, sans-serif\; font-size: 14px\; background-color: rgb(255\, 255\, 255)\;">Dr. Justin Taylor and SPMC&#39\;s chef\, Brandon Smith will be providing a cooking demo\, discussing the ways in which nutrition affects our health and offering quick and healthy meal ideas!</span><br style="color: rgb(75\, 79\, 86)\; font-family: Helvetica\, Arial\, sans-serif\; font-size: 14px\; background-color: rgb(255\, 255\, 255)\;" />\n<br style="color: rgb(75\, 79\, 86)\; font-family: Helvetica\, Arial\, sans-serif\; font-size: 14px\; background-color: rgb(255\, 255\, 255)\;" />\n<span style="color: rgb(75\, 79\, 86)\; font-family: Helvetica\, Arial\, sans-serif\; font-size: 14px\; background-color: rgb(255\, 255\, 255)\;">Guests will be treated to complimentary dinner from Caf&eacute\; Salute! <u>No RSVP required.</u></span>
LOCATION:Summit Pacific Medical Center 600 East Main St. Elma\, WA
UID:e.26.8178
SEQUENCE:3
DTSTAMP:20260425T230452Z
URL:https://chamber.graysharbor.org/events/details/community-education-dinner-nutrition-for-all-ages-8178
END:VEVENT

END:VCALENDAR
