BEGIN:VCALENDAR
VERSION:2.0
PRODID:-//ChamberMaster//Event Calendar 2.0//EN
METHOD:PUBLISH
X-PUBLISHED-TTL:P3D
REFRESH-INTERVAL:P3D
CALSCALE:GREGORIAN
BEGIN:VEVENT
DTSTART:20180825T150000Z
DTEND:20180825T230000Z
X-MICROSOFT-CDO-ALLDAYEVENT:FALSE
SUMMARY:Community Garage/Yard Sale
DESCRIPTION:We are sponsoring a community garage sale to help support Seattle Children's hospital. We have limited spaces for the public to rent for $20 each (entirety is donated to Children's hospital). We provide the space\, and you make some spare money while decluttering and getting rid of unwanted items.
X-ALT-DESC;FMTTYPE=text/html:We are sponsoring a community garage sale to help support Seattle Children&#39\;s hospital. We have limited spaces for the public to rent for $20 each (entirety is donated to Children&#39\;s hospital). We provide the space\, and you make some spare money while decluttering and getting rid of unwanted items.
LOCATION:909 E Wishkah St.. Aberdeen\, Wa 98529 Walmart parking lot\, behind garden center
UID:e.26.11212
SEQUENCE:3
DTSTAMP:20260425T033039Z
URL:https://chamber.graysharbor.org/events/details/community-garage-yard-sale-11212
END:VEVENT

END:VCALENDAR
