BEGIN:VCALENDAR
VERSION:2.0
PRODID:-//ChamberMaster//Event Calendar 2.0//EN
METHOD:PUBLISH
X-PUBLISHED-TTL:P3D
REFRESH-INTERVAL:P3D
CALSCALE:GREGORIAN
BEGIN:VEVENT
DTSTART:20190502T000000Z
DTEND:20190502T020000Z
X-MICROSOFT-CDO-ALLDAYEVENT:FALSE
SUMMARY:Community Garden BBQ Potluck Party - with a Master Gardener
DESCRIPTION:Come learn and celebrate with us at the Gospel Garden! Master Gardener Jamie Quigg will be sharing with us some tips for vegetable gardening\, natural deer repellent\, and more! She will be presenting at 5PM and the BBQ potluck will happen right afterward. Come and pull some weeds\, learn a little\, eat some food\, and get to know your neighbors. The church will be providing the buns and burgers/hot dogs/veggie burgers. Bring salads\, chips\, toppings\, and drinks (nonalcoholic) to share. This is a kid friendly event so bring your kiddos and we will have some games outside:)\n\n\n\nThe goal this year is that at least 50% of the produce we grow at the garden goes to our local food bank and the church community meal.\n\nThis event is being held at the 210 K Street church building (1st Presbyterian).
X-ALT-DESC;FMTTYPE=text/html:<div class="_63eu _63ev" style="box-sizing: border-box\; font-size: 14px\; max-height: none\; overflow: visible\; padding: 12px\; word-wrap: break-word\; font-family: system-ui\, -apple-system\, BlinkMacSystemFont\, &quot\;.SFNSText-Regular&quot\;\, sans-serif\; caret-color: rgb(29\, 33\, 41)\; color: rgb(29\, 33\, 41)\;">\n<div class="_63ew" data-testid="event-permalink-details" style="white-space: pre-wrap\; font-family: inherit\;"><span style="font-family: inherit\;">Come learn and celebrate with us at the Gospel Garden! Master Gardener Jamie Quigg will be sharing with us some tips for vegetable gardening\, natural deer repellent\, and more! She will be presenting at 5PM and the BBQ potluck will happen right afterward. Come and pull some weeds\, learn a little\, eat some food\, and get to know your neighbors. The church will be providing the buns and burgers/hot dogs/veggie burgers. Bring salads\, chips\, toppings\, and drinks (nonalcoholic) to share. This is a kid friendly event so bring your kiddos and we will have some games outside:)<br />\n<br />\nThe goal this year is that at least 50% of the produce we grow at the garden goes to our local food bank and the church community meal.<br />\nThis event is being held at the 210 K Street church building (1st Presbyterian). </span></div>\n</div>\n
LOCATION:210 K Street church building (1st Presbyterian).
UID:e.26.11949
SEQUENCE:3
DTSTAMP:20260424T133035Z
URL:https://chamber.graysharbor.org/events/details/community-garden-bbq-potluck-party-with-a-master-gardener-11949
END:VEVENT

END:VCALENDAR
