BEGIN:VCALENDAR
VERSION:2.0
PRODID:-//ChamberMaster//Event Calendar 2.0//EN
METHOD:PUBLISH
X-PUBLISHED-TTL:P3D
REFRESH-INTERVAL:P3D
CALSCALE:GREGORIAN
BEGIN:VEVENT
DTSTART:20191212T230000Z
DTEND:20191213T030000Z
X-MICROSOFT-CDO-ALLDAYEVENT:FALSE
SUMMARY:Community-Wide Open House in Hoquiam
DESCRIPTION:The Department of Commerce is spearheading a meeting called "Imagine Hoquiam! Explore the Possibilities " that asks local residents to identify two commerce based priorities for Hoquiam.\n\n\n\nAn event scheduled for Thursday\, December 12\, from 3pm to 7pm at the Hoquiam Elks Lodge will be open to the public. Free food and refreshments will be served!\n\nLearn more here: https://www.kxro.com/meeting-looks-at-hoquiam-priorities-as-part-of-pilot-project/
X-ALT-DESC;FMTTYPE=text/html:<div class="page" title="Page 1"><span style="caret-color: rgb(28\, 30\, 33)\; color: rgb(28\, 30\, 33)\; font-family: system-ui\, -apple-system\, BlinkMacSystemFont\, &quot\;.SFNSText-Regular&quot\;\, sans-serif\; font-size: 14px\; white-space: pre-wrap\;">The Department of Commerce is spearheading a meeting called &ldquo\;Imagine Hoquiam! Explore the Possibilities&hellip\;&rdquo\; that asks local residents to identify two commerce based priorities for Hoquiam.</span><br />\n<br />\n<span style="caret-color: rgb(102\, 102\, 102)\; color: rgb(0\, 0\, 0)\; font-family: arial\; font-size: 14px\;">An event scheduled for&nbsp\;</span><span style="caret-color: rgb(102\, 102\, 102)\; color: rgb(0\, 0\, 0)\; font-family: arial\; font-size: 14px\;">Thursday\, December 12\, from 3pm to 7pm at the Hoquiam Elks Lodge will be open to the public.</span>&nbsp\;<font color="#000000" face="arial"><span style="caret-color: rgb(102\, 102\, 102)\; font-size: 14px\;">Free food and refreshments&nbsp\;will&nbsp\;be served!</span></font><br />\n<font color="#000000" face="arial"><span style="caret-color: rgb(102\, 102\, 102)\; font-size: 14px\;">Learn more here:&nbsp\;</span></font><font color="#000000"><span style="caret-color: rgb(0\, 0\, 0)\;">https://www.kxro.com/meeting-looks-at-hoquiam-priorities-as-part-of-pilot-project/</span></font><br />\n&nbsp\;</div>\n
LOCATION:Hoquiam Elks Lodge 624 K St.
UID:e.26.12301
SEQUENCE:3
DTSTAMP:20260424T025251Z
URL:https://chamber.graysharbor.org/events/details/community-wide-open-house-in-hoquiam-12301
END:VEVENT

END:VCALENDAR
