BEGIN:VCALENDAR
VERSION:2.0
PRODID:-//ChamberMaster//Event Calendar 2.0//EN
METHOD:PUBLISH
X-PUBLISHED-TTL:P3D
REFRESH-INTERVAL:P3D
CALSCALE:GREGORIAN
BEGIN:VEVENT
DTSTART:20171020T010000Z
DTEND:20171020T040000Z
X-MICROSOFT-CDO-ALLDAYEVENT:FALSE
SUMMARY:Contested Boundaries: A New Pacific Northwest History
DESCRIPTION:Contested Boundaries: A New Pacific Northwest History\n\nDavid J. Jepsen will discuss his book Contested Boundaries: a New Pacific Northwest History. He argues that the history of the Pacific Northwest is a two-centuries-old conflict between people and governments struggling for control over the region's land and resources\, especially in lumber-rich areas like Grays Harbor. \n\n\n\nHis appearance is part of the museum's "Is Your History Here?" program\, designed to encourage Grays Harbor County residents to embrace the region's past.\n\n\n\nJepsen\, an historian\, educator and writer who teaches Pacific Northwest and U.S. history at Tacoma Community College\, will share compelling stories about people of all colors and classes contesting the political\, economic\, and social barriers that blocked their path to equality and full participation in the region's society\n\n\n\n	Kid Friendly
X-ALT-DESC;FMTTYPE=text/html:<h1 class="_5gmx" data-testid="event-permalink-event-name" id="seo_h1_tag" style="color: rgb(29\, 33\, 41)\; font-size: 20px\; margin: 0px 12px 0px 0px\; padding: 0px\; font-weight: normal\; line-height: 28px\; font-family: Helvetica\, Arial\, sans-serif\; background-color: rgb(255\, 255\, 255)\;">Contested Boundaries: A New Pacific Northwest History</h1>\n\n<div class="_2qgs" style="color: rgb(75\, 79\, 86)\; padding: 12px\; position: relative\; border-top: none\; font-family: Helvetica\, Arial\, sans-serif\; font-size: 12px\;"><span class="_4n-j _fbReactionComponent__eventDetailsContentTags fsl" data-testid="event-permalink-details" style="font-size: 14px\; font-family: inherit\;">David J. Jepsen will discuss his book Contested Boundaries: a New Pacific Northwest History. He argues that the history of the Pacific Northwest is a two-centuries-old conflict between people and governments struggling for control over the region&rsquo\;s land and resources\, especially in lumber-rich areas like Grays Harbor.&nbsp\;<br />\n<br />\nHis appearance is part of the museum&rsquo\;s &ldquo\;Is Your History Here?&rdquo\; program\, designed to encourage Grays Harbor County residents to embrace the region&rsquo\;s past.<br />\n<br />\nJepsen\, an historian\, educator and writer who teaches Pacific Northwest and U.S. history at Tacoma Community College\, will share compelling stories about people of all colors and classes contesting the political\, economic\, and social barriers that blocked their path to equality and full participation in the region&rsquo\;s society</span></div>\n\n<div class="_1r51" style="line-height: 24px\; margin: 4px 12px 12px\; min-height: 24px\; font-family: Helvetica\, Arial\, sans-serif\; color: rgb(29\, 33\, 41)\; font-size: 12px\;">\n<ul class="uiList uiCollapsedList uiCollapsedListHidden _509- _4ki" id="u_jsonp_6_o" style="list-style-type: none\; margin: 0px\; padding: 0px\;">\n	<li style="border-width: 0px\; display: inline-block\; vertical-align: top\;"><a href="https://www.facebook.com/events/discovery/?acontext=%7B%22ref%22%3A3%2C%22ref_newsfeed_story_type%22%3A%22regular%22%2C%22source%22%3A1%2C%22action_history%22%3A%22%5B%7B%5C%22surface%5C%22%3A%5C%22permalink%5C%22%2C%5C%22mechanism%5C%22%3A%5C%22surface%5C%22%2C%5C%22extra_data%5C%22%3A%5B%5D%7D%2C%7B%5C%22surface%5C%22%3A%5C%22permalink%5C%22%2C%5C%22mechanism%5C%22%3A%5C%22event_information%5C%22%2C%5C%22extra_data%5C%22%3A%7B%5C%22tag%5C%22%3A%5C%22Kid+Friendly%5C%22%7D%7D%5D%22%2C%22has_source%22%3Atrue%7D&amp\;suggestion_token=%7B%22event_flags%22%3A%5B%22family_friendly%22%5D%7D" style="color: rgb(54\, 88\, 153)\; cursor: pointer\; text-decoration-line: none\; font-family: inherit\;"><span class="_47od" style="background-color: rgb(237\, 242\, 250)\; border-radius: 2px\; color: rgb(32\, 55\, 95)\; display: block\; height: 14px\; line-height: 14px\; margin: 0px 4px 4px 0px\; padding: 4px 6px\; position: relative\; font-family: inherit\;">Kid Friendly</span></a></li>\n</ul>\n</div>\n
LOCATION:Aberdeen Museum of History Aberdeen\, WA
UID:e.26.8291
SEQUENCE:3
DTSTAMP:20260425T195604Z
URL:https://chamber.graysharbor.org/events/details/contested-boundaries-a-new-pacific-northwest-history-8291
END:VEVENT

END:VCALENDAR
