BEGIN:VCALENDAR
VERSION:2.0
PRODID:-//ChamberMaster//Event Calendar 2.0//EN
METHOD:PUBLISH
X-PUBLISHED-TTL:P3D
REFRESH-INTERVAL:P3D
CALSCALE:GREGORIAN
BEGIN:VEVENT
DTSTART:20190202T001500Z
DTEND:20190202T011500Z
X-MICROSOFT-CDO-ALLDAYEVENT:FALSE
SUMMARY:Corkscrew Willow's Floral and Design Ribbon Cutting
DESCRIPTION:Please join the Greater Grays Harbor Ambassadors at Corkscrew Willow's Floral and Design for a New Member and New Business Ribbon Cutting! The event will take place on February 1st at 4:15pm. Let's all gather together help welcome them to the community!\n\n\n\nLearn more about this new business in Hoquiam by visiting their website here: www.corkscrewwillowfloral.com
X-ALT-DESC;FMTTYPE=text/html:<div data-block="true" data-editor="40pgi" data-offset-key="52ge7-0-0" style="font-family: system-ui\, -apple-system\, BlinkMacSystemFont\, &quot\;.SFNSText-Regular&quot\;\, sans-serif\; caret-color: rgb(29\, 33\, 41)\; color: rgb(29\, 33\, 41)\; font-size: 12px\; white-space: pre-wrap\;">\n<div class="_1mf _1mj" data-offset-key="52ge7-0-0" style="position: relative\; direction: ltr\; font-family: inherit\;"><span style="font-size:16px\;"><span data-offset-key="52ge7-0-0" style="font-family: inherit\;">Please join the Greater Grays Harbor Ambassadors at Corkscrew Willow&#39\;s Floral and Design for a New Member and New Business Ribbon Cutting! The event will take place on February 1st at 4:15pm. Let&#39\;s all gather together help welcome them to the community!</span></span></div>\n</div>\n\n<div data-block="true" data-editor="40pgi" data-offset-key="cv383-0-0" style="font-family: system-ui\, -apple-system\, BlinkMacSystemFont\, &quot\;.SFNSText-Regular&quot\;\, sans-serif\; caret-color: rgb(29\, 33\, 41)\; color: rgb(29\, 33\, 41)\; font-size: 12px\; white-space: pre-wrap\;">\n<div class="_1mf _1mj" data-offset-key="cv383-0-0" style="position: relative\; direction: ltr\; font-family: inherit\;"><span style="font-size:16px\;"><span data-offset-key="cv383-0-0" style="font-family: inherit\;">Learn more about this new business in Hoquiam by visiting their website here: www.corkscrewwillowfloral.com</span></span></div>\n</div>\n
LOCATION:Corkscrew Willow's Floral and Design 720 Simpson Ave. Hoquiam\, WA
UID:e.26.11658
SEQUENCE:3
DTSTAMP:20260424T181851Z
URL:https://chamber.graysharbor.org/events/details/corkscrew-willow-s-floral-and-design-ribbon-cutting-11658
END:VEVENT

END:VCALENDAR
