BEGIN:VCALENDAR
VERSION:2.0
PRODID:-//ChamberMaster//Event Calendar 2.0//EN
METHOD:PUBLISH
X-PUBLISHED-TTL:P3D
REFRESH-INTERVAL:P3D
CALSCALE:GREGORIAN
BEGIN:VEVENT
DTSTART:20190420T190000Z
DTEND:20190420T210000Z
X-MICROSOFT-CDO-ALLDAYEVENT:FALSE
SUMMARY:Cosi Lions Easter Egg Hunt
DESCRIPTION:Join us for our Annual Easter Egg Hunt!! Get your picture taken with the Easter Bunny and enter the raffle for your chance to win an Easter basket!
X-ALT-DESC;FMTTYPE=text/html:<span style="caret-color: rgb(29\, 33\, 41)\; color: rgb(29\, 33\, 41)\; font-family: system-ui\, -apple-system\, BlinkMacSystemFont\, &quot\;.SFNSText-Regular&quot\;\, sans-serif\; font-size: 14px\; white-space: pre-wrap\;">Join us for our Annual Easter Egg Hunt!! Get your picture taken with the Easter Bunny and enter the raffle for your chance to win an Easter basket! </span>
LOCATION:pin Cosmopolis Lions Club 601 2nd Send Mail To: POBox49\, Cosmopolis\, Washington 98537
UID:e.26.11953
SEQUENCE:3
DTSTAMP:20260424T150858Z
URL:https://chamber.graysharbor.org/events/details/cosi-lions-easter-egg-hunt-11953
END:VEVENT

END:VCALENDAR
