BEGIN:VCALENDAR
VERSION:2.0
PRODID:-//ChamberMaster//Event Calendar 2.0//EN
METHOD:PUBLISH
X-PUBLISHED-TTL:P3D
REFRESH-INTERVAL:P3D
CALSCALE:GREGORIAN
BEGIN:VEVENT
DTSTART:20190224T013000Z
DTEND:20190224T033000Z
X-MICROSOFT-CDO-ALLDAYEVENT:FALSE
SUMMARY:Cosmopolis Fire Department Chinese Auction
DESCRIPTION:The Cosmopolis Fire Department's first annual auction is coming up in one month! We are excited to announce on Saturday\, February 23rd the Cosmopolis Volunteer Firefighters will be hosting a Chinese Auction to fund our Scholarship fund\, we pride ourselves in our annual Scholarships\, we give out on average 2\,500.00 a year to Graduating Seniors who have attended Cosi School. We are currently accepting donations in the form of auction Baskets and Monetary Donations made out to "Cosmopolis Firefighters Association". To donate message us on facebook or stop by the Station on a Sunday from 9AM to Noon.
X-ALT-DESC;FMTTYPE=text/html:<span style="caret-color: rgb(29\, 33\, 41)\; color: rgb(29\, 33\, 41)\; font-family: system-ui\, -apple-system\, BlinkMacSystemFont\, &quot\;.SFNSText-Regular&quot\;\, sans-serif\; font-size: 14px\; white-space: pre-wrap\; background-color: rgb(255\, 255\, 255)\;">The Cosmopolis Fire Department&#39\;s first annual auction is coming up in one month! We are excited to announce on Saturday\, February 23rd the Cosmopolis Volunteer Firefighters will be hosting a Chinese Auction to fund our Scholarship fund\, we pride ourselves in our annual Scholarships\, we give out on average 2\,500.00 a year to Graduating Seniors who have attended Cosi School. We are currently accepting donations in the form of auction Baskets and Monetary Donations made out to &quot\;Cosmopolis Firefighters Association&quot\;. To donate message us on facebook or stop by the Station on a Sunday from 9AM to Noon.</span>
LOCATION:Cosmopolis Fire Department 111 D St. Cosmopolis\, WA
UID:e.26.11686
SEQUENCE:3
DTSTAMP:20260424T194454Z
URL:https://chamber.graysharbor.org/events/details/cosmopolis-fire-department-chinese-auction-11686
END:VEVENT

END:VCALENDAR
