BEGIN:VCALENDAR
VERSION:2.0
PRODID:-//ChamberMaster//Event Calendar 2.0//EN
METHOD:PUBLISH
X-PUBLISHED-TTL:P3D
REFRESH-INTERVAL:P3D
CALSCALE:GREGORIAN
BEGIN:VEVENT
DTSTART:20201219T030000Z
DTEND:20201219T050000Z
X-MICROSOFT-CDO-ALLDAYEVENT:FALSE
SUMMARY:Cosmopolis Fire Truck Light Parade
DESCRIPTION:Please Join your Cosmopolis Firefighters and SANTA\, Friday\, December 18th at 7:00pm at your curbside for our Fire Truck Light Parade! Santa will be joining us this year on the fire truck in place of his usual visit to the fire station. Come check out our decorated trucks and say hello to Santa. We will be making our rounds through all neighborhoods in Cosmopolis this Friday at 7pm!
X-ALT-DESC;FMTTYPE=text/html:<span style="font-size:14px\;"><span style="font-family:arial\;"><span style="caret-color: rgb(5\, 5\, 5)\; color: rgb(5\, 5\, 5)\; white-space: pre-wrap\;">Please Join your Cosmopolis Firefighters and SANTA\, Friday\, December 18th at 7:00pm at your curbside for our Fire Truck Light Parade! Santa will be joining us this year on the fire truck in place of his usual visit to the fire station. Come check out our decorated trucks and say hello to Santa. We will be making our rounds through all neighborhoods in Cosmopolis this Friday at 7pm! </span></span></span>
LOCATION:Cosmopolis Fire Department
UID:e.26.12561
SEQUENCE:3
DTSTAMP:20260421T011553Z
URL:https://chamber.graysharbor.org/events/details/cosmopolis-fire-truck-light-parade-12561
END:VEVENT

END:VCALENDAR
