BEGIN:VCALENDAR
VERSION:2.0
PRODID:-//ChamberMaster//Event Calendar 2.0//EN
METHOD:PUBLISH
X-PUBLISHED-TTL:P3D
REFRESH-INTERVAL:P3D
CALSCALE:GREGORIAN
BEGIN:VEVENT
DTSTART:20200725T160000Z
DTEND:20200725T230000Z
X-MICROSOFT-CDO-ALLDAYEVENT:FALSE
SUMMARY:Cosmopolis Lions Golf Outing
DESCRIPTION:The Cosmopolis Lions Club's 9th Annual Golf Outing (scholarship fundraiser) is scheduled for July 25th at Highland Golf Course in Cosmopolis. If you would like to register or sponsor a hole please contact Gene Parker at 360-590-7073.
X-ALT-DESC;FMTTYPE=text/html:<font color="#1d2129" face="system-ui\, -apple-system\, BlinkMacSystemFont\, .SFNSText-Regular\, sans-serif"><span style="caret-color: rgb(29\, 33\, 41)\; font-size: 14px\; white-space: pre-wrap\;">The Cosmopolis Lions Club&#39\;s 9th Annual Golf Outing (scholarship fundraiser) is scheduled for July 25th at Highland Golf Course in Cosmopolis. If you would like to register or sponsor a hole please contact Gene Parker at 360-590-7073.</span></font>
LOCATION:Highland Golf Course Cosmopolis\, WA
UID:e.26.12477
SEQUENCE:3
DTSTAMP:20260424T132536Z
URL:https://chamber.graysharbor.org/events/details/cosmopolis-lions-golf-outing-12477
END:VEVENT

END:VCALENDAR
