BEGIN:VCALENDAR
VERSION:2.0
PRODID:-//ChamberMaster//Event Calendar 2.0//EN
METHOD:PUBLISH
X-PUBLISHED-TTL:P3D
REFRESH-INTERVAL:P3D
CALSCALE:GREGORIAN
BEGIN:VEVENT
DTSTART;VALUE=DATE:20171118
DTEND;VALUE=DATE:20171120
TRANSP:TRANSPARENT
X-MICROSOFT-CDO-ALLDAYEVENT:TRUE
SUMMARY:Country Christmas Bazaar
DESCRIPTION:It's time to get into the holiday spirit!\n\nThis bazaar will feature handmade crafts\, furniture\, food and so much more.
X-ALT-DESC;FMTTYPE=text/html:It&#39\;s time to get into the holiday spirit!<br />\nThis bazaar will feature handmade crafts\, furniture\, food and so much more.
LOCATION:Grays Harbor County Fairgrounds Elma\, WA
UID:e.26.7646
SEQUENCE:3
DTSTAMP:20260425T181143Z
URL:https://chamber.graysharbor.org/events/details/country-christmas-bazaar-7646
END:VEVENT

END:VCALENDAR
