BEGIN:VCALENDAR
VERSION:2.0
PRODID:-//ChamberMaster//Event Calendar 2.0//EN
METHOD:PUBLISH
X-PUBLISHED-TTL:P3D
REFRESH-INTERVAL:P3D
CALSCALE:GREGORIAN
BEGIN:VEVENT
DTSTART;VALUE=DATE:20170809
DTEND;VALUE=DATE:20170814
TRANSP:TRANSPARENT
X-MICROSOFT-CDO-ALLDAYEVENT:TRUE
SUMMARY:County Fair
DESCRIPTION:Carnival ride wristbands are available daily during the Grays Harbor County Fair and are $26.00 which includes unlimited rides for the day of purchase. Carnival Wristbands are purchased at the Carnival Lot during Fair. Carnival wristbands DO NOT include Fair Admission.\n\n\n\nCarnival Ride Hours:\n\nNoon to 10 p.m. Wednesday through Friday\n\n11 a.m. to 11 p.m. Saturday\n\n11 a.m. to 5.m. Sunday\n\n\n\nPresale Discount Carnival Wristbands are available until August 7\, 2017 at the Fairgrounds Office and the Montesano\, Elma\, and Aberdeen Anchor Bank branches. Presale wristbands are $22.00.
X-ALT-DESC;FMTTYPE=text/html:Carnival ride wristbands are available daily during the Grays Harbor County Fair and are $26.00 which includes unlimited rides for the day of purchase. Carnival Wristbands are purchased at the Carnival Lot during Fair. <strong>Carnival wristbands DO NOT include Fair Admission.</strong><br />\n<br />\nCarnival Ride Hours:<br />\nNoon to 10 p.m. Wednesday through Friday<br />\n11 a.m. to 11 p.m. Saturday<br />\n11 a.m. to 5.m. Sunday<br />\n<br />\nPresale Discount Carnival Wristbands are available until August 7\, 2017 at the Fairgrounds Office and the Montesano\, Elma\, and Aberdeen Anchor Bank branches. Presale wristbands are $22.00.<br />\n<br />\n<br />\n&nbsp\;
LOCATION:Grays Harbor Fairgrounds Elma\, WA
UID:e.26.6464
SEQUENCE:3
DTSTAMP:20260425T225937Z
URL:https://chamber.graysharbor.org/events/details/county-fair-6464
END:VEVENT

END:VCALENDAR
