BEGIN:VCALENDAR
VERSION:2.0
PRODID:-//ChamberMaster//Event Calendar 2.0//EN
METHOD:PUBLISH
X-PUBLISHED-TTL:P3D
REFRESH-INTERVAL:P3D
CALSCALE:GREGORIAN
BEGIN:VEVENT
DTSTART:20190809T190000Z
DTEND:20190809T230000Z
X-MICROSOFT-CDO-ALLDAYEVENT:FALSE
SUMMARY:CPR/First Aid Training Certification
DESCRIPTION:Participants will learn to recognize a medical emergency\, handle breathing and cardiac emergencies\, act appropriately and effectively and sustain life until professional help arrives. At the end of this course students will earn a CPR/First Aid certification card.\n\nInstructor: Edward Dawson\n\nDate: Friday\, August 9th\n\nTime: Noon - 4:00pm\n\n\n\nCall: 360.538.4088 or visit: www.campusce.net/ghc to register!
X-ALT-DESC;FMTTYPE=text/html:<span style="font-size:14px\;"><span style="font-family:arial\;"><span style="caret-color: rgb(29\, 33\, 41)\; color: rgb(29\, 33\, 41)\; white-space: pre-wrap\;">Participants will learn to recognize a medical emergency\, handle breathing and cardiac emergencies\, act appropriately and effectively and sustain life until professional help arrives. At the end of this course students will earn a CPR/First Aid certification card.</span><br style="caret-color: rgb(29\, 33\, 41)\; color: rgb(29\, 33\, 41)\; font-family: system-ui\, -apple-system\, BlinkMacSystemFont\, &quot\;.SFNSText-Regular&quot\;\, sans-serif\; font-size: 14px\; white-space: pre-wrap\;" />\n<span style="caret-color: rgb(29\, 33\, 41)\; color: rgb(29\, 33\, 41)\; white-space: pre-wrap\;">Instructor: Edward Dawson</span><br style="caret-color: rgb(29\, 33\, 41)\; color: rgb(29\, 33\, 41)\; font-family: system-ui\, -apple-system\, BlinkMacSystemFont\, &quot\;.SFNSText-Regular&quot\;\, sans-serif\; font-size: 14px\; white-space: pre-wrap\;" />\n<span style="caret-color: rgb(29\, 33\, 41)\; color: rgb(29\, 33\, 41)\; white-space: pre-wrap\;">Date: Friday\, August 9th</span><br style="caret-color: rgb(29\, 33\, 41)\; color: rgb(29\, 33\, 41)\; font-family: system-ui\, -apple-system\, BlinkMacSystemFont\, &quot\;.SFNSText-Regular&quot\;\, sans-serif\; font-size: 14px\; white-space: pre-wrap\;" />\n<span style="caret-color: rgb(29\, 33\, 41)\; color: rgb(29\, 33\, 41)\; white-space: pre-wrap\;">Time: Noon - 4:00pm</span><br style="caret-color: rgb(29\, 33\, 41)\; color: rgb(29\, 33\, 41)\; font-family: system-ui\, -apple-system\, BlinkMacSystemFont\, &quot\;.SFNSText-Regular&quot\;\, sans-serif\; font-size: 14px\; white-space: pre-wrap\;" />\n<br style="caret-color: rgb(29\, 33\, 41)\; color: rgb(29\, 33\, 41)\; font-family: system-ui\, -apple-system\, BlinkMacSystemFont\, &quot\;.SFNSText-Regular&quot\;\, sans-serif\; font-size: 14px\; white-space: pre-wrap\;" />\n<span style="caret-color: rgb(29\, 33\, 41)\; color: rgb(29\, 33\, 41)\; white-space: pre-wrap\;">Call: 360.538.4088 or visit: </span><a data-lynx-mode="hover" href="https://l.facebook.com/l.php?u=http%3A%2F%2Fwww.campusce.net%2Fghc%3Ffbclid%3DIwAR2D2d0ibn7QRu2MaSAlTnUVBRuewvJa0AwOzdXWbIKKlDVDpVhcp_5ti4w&amp\;h=AT17OTMsdc0uf09M5O03CUWfZOmfOWWFyg_43QoyjJOUR0kFxsPQcFzMQGk8Cu9WKTpSphio0s0OU4tPrLOysCNhOlb1_lkp3702OgrRykP3t-u7mvXZIzfo5BjcAydGLky-2F5LdA" rel="nofollow noopener" style="color: rgb(56\, 88\, 152)\; cursor: pointer\; text-decoration: none\; font-family: system-ui\, -apple-system\, BlinkMacSystemFont\, &quot\;.SFNSText-Regular&quot\;\, sans-serif\; font-size: 14px\; white-space: pre-wrap\;" target="_blank">www.campusce.net/ghc</a><span style="caret-color: rgb(29\, 33\, 41)\; color: rgb(29\, 33\, 41)\; white-space: pre-wrap\;"> to register!</span></span></span>
LOCATION:
UID:e.26.12154
SEQUENCE:3
DTSTAMP:20260424T085840Z
URL:https://chamber.graysharbor.org/events/details/cpr-first-aid-training-certification-12154
END:VEVENT

END:VCALENDAR
