BEGIN:VCALENDAR
VERSION:2.0
PRODID:-//ChamberMaster//Event Calendar 2.0//EN
METHOD:PUBLISH
X-PUBLISHED-TTL:P3D
REFRESH-INTERVAL:P3D
CALSCALE:GREGORIAN
BEGIN:VEVENT
DTSTART;VALUE=DATE:20171014
DTEND;VALUE=DATE:20171016
TRANSP:TRANSPARENT
X-MICROSOFT-CDO-ALLDAYEVENT:TRUE
SUMMARY:Cranberry Harvest Festival
DESCRIPTION:CRANBERRY HARVEST FESTIVAL - Bog tours\, Cranberry cook off\, and firelight parade. For the 2017 schedule of events\, Click Here. For 2017 Poster Click Here. For 2017 Vendor Information Click Here. For 2017 Vendor Application Click Here. For Parade Information contact Chuck Wallace 360-580-2281.
X-ALT-DESC;FMTTYPE=text/html:<strong>CRANBERRY HARVEST FESTIVAL</strong> - Bog tours\, Cranberry cook off\, and firelight parade. For the 2017 schedule of events\, <a href="http://www.westportgrayland-chamber.org/pdfs/Cranberry-2017-Schedule.pdf" target="_blank"><font color="#0066cc">Click Here</font></a>. For 2017 Poster <a href="http://www.westportgrayland-chamber.org/pdfs/2017-Cranberry-Harvest-Festival-Poster.pdf" target="_blank"><font color="#0066cc">Click Here</font></a>. For 2017 Vendor Information <a href="http://www.westportgrayland-chamber.org/pdfs/Cranberry-Vendor-Information-2017.pdf" target="_blank"><font color="#0066cc">Click Here</font></a>. For 2017 Vendor Application <a href="http://www.westportgrayland-chamber.org/pdfs/Cranberry-Vendor-App-2017.pdf" target="_blank"><font color="#0066cc">Click Here</font></a>. For Parade Information contact Chuck Wallace 360-580-2281.
LOCATION:Grayland Community Hall 2071 Cranberry Rd\, Grayland\, WA 98547
UID:e.26.7636
SEQUENCE:3
DTSTAMP:20260425T201359Z
URL:https://chamber.graysharbor.org/events/details/cranberry-harvest-festival-7636
END:VEVENT

END:VCALENDAR
