BEGIN:VCALENDAR
VERSION:2.0
PRODID:-//ChamberMaster//Event Calendar 2.0//EN
METHOD:PUBLISH
X-PUBLISHED-TTL:P3D
REFRESH-INTERVAL:P3D
CALSCALE:GREGORIAN
BEGIN:VEVENT
DTSTART;VALUE=DATE:20181229
DTEND;VALUE=DATE:20190101
TRANSP:TRANSPARENT
X-MICROSOFT-CDO-ALLDAYEVENT:TRUE
SUMMARY:Cronin Tierney in Concert at Galway Bay
DESCRIPTION:Cronin Tierney Live in Concert! \n\nThree nights\, Including New Year's Eve! December 29\, 30\, 31 at Galway Bay in Ocean Shores\, WA
X-ALT-DESC;FMTTYPE=text/html:<span style="caret-color: rgb(29\, 33\, 41)\; color: rgb(29\, 33\, 41)\; font-family: system-ui\, -apple-system\, BlinkMacSystemFont\, &quot\;.SFNSText-Regular&quot\;\, sans-serif\; font-size: 14px\; background-color: rgb(255\, 255\, 255)\;">Cronin Tierney Live in Concert!&nbsp\;</span><br style="caret-color: rgb(29\, 33\, 41)\; color: rgb(29\, 33\, 41)\; font-family: system-ui\, -apple-system\, BlinkMacSystemFont\, &quot\;.SFNSText-Regular&quot\;\, sans-serif\; font-size: 14px\;" />\n<span style="caret-color: rgb(29\, 33\, 41)\; color: rgb(29\, 33\, 41)\; font-family: system-ui\, -apple-system\, BlinkMacSystemFont\, &quot\;.SFNSText-Regular&quot\;\, sans-serif\; font-size: 14px\; background-color: rgb(255\, 255\, 255)\;">Three nights\, Including New Year&#39\;s Eve! December 29\, 30\, 31 at Galway Bay in Ocean Shores\, WA</span>
LOCATION:Galway Bay Irish Pub 880 Point Brown Ave. Ocean Shores\, WA
UID:e.26.11404
SEQUENCE:3
DTSTAMP:20260424T210932Z
URL:https://chamber.graysharbor.org/events/details/cronin-tierney-in-concert-at-galway-bay-11404
END:VEVENT

END:VCALENDAR
