BEGIN:VCALENDAR
VERSION:2.0
PRODID:-//ChamberMaster//Event Calendar 2.0//EN
METHOD:PUBLISH
X-PUBLISHED-TTL:P3D
REFRESH-INTERVAL:P3D
CALSCALE:GREGORIAN
BEGIN:VEVENT
DTSTART;VALUE=DATE:20190607
DTEND;VALUE=DATE:20190609
TRANSP:TRANSPARENT
X-MICROSOFT-CDO-ALLDAYEVENT:TRUE
SUMMARY:Cronin Tierney in Concert at Galway Bay
DESCRIPTION:Original Rock Music\, infused with flares from the 1960's British Pop influence and '70's Rock Icons. And of course some Irish songs too!
X-ALT-DESC;FMTTYPE=text/html:<span style="caret-color: rgb(29\, 33\, 41)\; color: rgb(29\, 33\, 41)\; font-family: system-ui\, -apple-system\, BlinkMacSystemFont\, &quot\;.SFNSText-Regular&quot\;\, sans-serif\; font-size: 14px\; white-space: pre-wrap\;">Original Rock Music\, infused with flares from the 1960&#39\;s British Pop influence and &#39\;70&#39\;s Rock Icons. And of course some Irish songs too!</span>
LOCATION:pin Galway Bay Irish Restaurant & Pub 880 Point Brown Ave NE\, Ocean Shores\, Washington 98569
UID:e.26.11854
SEQUENCE:3
DTSTAMP:20260424T120414Z
URL:https://chamber.graysharbor.org/events/details/cronin-tierney-in-concert-at-galway-bay-11854
END:VEVENT

END:VCALENDAR
