BEGIN:VCALENDAR
VERSION:2.0
PRODID:-//ChamberMaster//Event Calendar 2.0//EN
METHOD:PUBLISH
X-PUBLISHED-TTL:P3D
REFRESH-INTERVAL:P3D
CALSCALE:GREGORIAN
BEGIN:VEVENT
DTSTART:20180922T160000Z
DTEND:20180922T190000Z
X-MICROSOFT-CDO-ALLDAYEVENT:FALSE
SUMMARY:CSI Adult Presentation - Lecture
DESCRIPTION:Learn 'behind the scene' facts of several crimes such as homicide\, robberies\, staged crime scenes\, and more. "Live" demonstration of how superglue is utilized to make latent fingerprints visible. You will do two hands on exercises. Look at photographs of a homicide -(that solved the case) and determine what you "see" as evidence. See a large display of evidence photos and equipment. (Some photos and info. might be considered graphic/offensive).\n\nInstructor: Lynne Dean\n\nCall: 360.538.4088 to register!
X-ALT-DESC;FMTTYPE=text/html:<span style="color: rgb(29\, 33\, 41)\; font-family: Helvetica\, Arial\, sans-serif\; font-size: 14px\; background-color: rgb(255\, 255\, 255)\;">Learn &#39\;behind the scene&#39\; facts of several crimes such as homicide\, robberies\, staged crime scenes\, and more. &quot\;Live&quot\; demonstration of how superglue is utilized to make latent fingerprints visible. You will do two hands on exercises. Look at photographs of a homicide -(that solved the case) and determine what you &quot\;see&quot\; as evidence. See a large display of evidence photos and equipment. (Some photos and info. might be considered graphic/offensive).</span><br style="color: rgb(29\, 33\, 41)\; font-family: Helvetica\, Arial\, sans-serif\; font-size: 14px\; background-color: rgb(255\, 255\, 255)\;" />\n<span style="color: rgb(29\, 33\, 41)\; font-family: Helvetica\, Arial\, sans-serif\; font-size: 14px\; background-color: rgb(255\, 255\, 255)\;">Instructor: Lynne Dean</span><br />\n<span style="color: rgb(29\, 33\, 41)\; font-family: Helvetica\, Arial\, sans-serif\; font-size: 14px\; background-color: rgb(255\, 255\, 255)\;">Call: 360.538.4088 to register!</span>
LOCATION:GHC Campus: RM 2255 (2nd floor 2000 building) Aberdeen\, WA
UID:e.26.11218
SEQUENCE:3
DTSTAMP:20260425T032231Z
URL:https://chamber.graysharbor.org/events/details/csi-adult-presentation-lecture-11218
END:VEVENT

END:VCALENDAR
