BEGIN:VCALENDAR
VERSION:2.0
PRODID:-//ChamberMaster//Event Calendar 2.0//EN
METHOD:PUBLISH
X-PUBLISHED-TTL:P3D
REFRESH-INTERVAL:P3D
CALSCALE:GREGORIAN
BEGIN:VEVENT
DTSTART;VALUE=DATE:20180323
DTEND;VALUE=DATE:20180326
TRANSP:TRANSPARENT
X-MICROSOFT-CDO-ALLDAYEVENT:TRUE
SUMMARY:Daffodil Festival
DESCRIPTION:Come help us celebrate our Spring season kick-off at our Daffodil Days Festival.
X-ALT-DESC;FMTTYPE=text/html:<span style="color: rgb(57\, 79\, 90)\; font-family: Ubuntu\, arial\, sans-serif\; font-size: 14px\; background-color: rgb(246\, 247\, 247)\;">Come help us celebrate our Spring season kick-off at our Daffodil Days Festival.&nbsp\;</span>\n<div>&nbsp\;</div>\n
LOCATION:Seabrook Washington Pacific Beach\, WA
UID:e.26.9486
SEQUENCE:3
DTSTAMP:20260425T131200Z
URL:https://chamber.graysharbor.org/events/details/daffodil-festival-9486
END:VEVENT

END:VCALENDAR
