BEGIN:VCALENDAR
VERSION:2.0
PRODID:-//ChamberMaster//Event Calendar 2.0//EN
METHOD:PUBLISH
X-PUBLISHED-TTL:P3D
REFRESH-INTERVAL:P3D
CALSCALE:GREGORIAN
BEGIN:VEVENT
DTSTART:20190720T170000Z
DTEND:20190722T000000Z
X-MICROSOFT-CDO-ALLDAYEVENT:FALSE
SUMMARY:Dale's Lavender Farm Festival
DESCRIPTION:Fresh cut lavender\, farm distilled lavender oil\, handmade craft vendors\, live music and more fun over two days at Dale's Lavendar Valley Farm!
X-ALT-DESC;FMTTYPE=text/html:<span style="caret-color: rgb(29\, 33\, 41)\; color: rgb(29\, 33\, 41)\; font-family: system-ui\, -apple-system\, BlinkMacSystemFont\, &quot\;.SFNSText-Regular&quot\;\, sans-serif\; font-size: 14px\; white-space: pre-wrap\;">Fresh cut lavender\, farm distilled lavender oil\, handmade craft vendors\, live music and more fun over two days at Dale&#39\;s Lavendar Valley Farm!</span>
LOCATION:pin 48 Robertson Rd\, Hoquiam\, WA 98550-9548\, United States
UID:e.26.11916
SEQUENCE:3
DTSTAMP:20260424T115542Z
URL:https://chamber.graysharbor.org/events/details/dale-s-lavender-farm-festival-11916
END:VEVENT

END:VCALENDAR
