BEGIN:VCALENDAR
VERSION:2.0
PRODID:-//ChamberMaster//Event Calendar 2.0//EN
METHOD:PUBLISH
X-PUBLISHED-TTL:P3D
REFRESH-INTERVAL:P3D
CALSCALE:GREGORIAN
BEGIN:VEVENT
DTSTART:20170701T170000Z
DTEND:20170704T000000Z
X-MICROSOFT-CDO-ALLDAYEVENT:FALSE
SUMMARY:Dales Lavender Valley Festival
DESCRIPTION:Lavender is in full bloom\, we will have vendors\, music\, food\, wine in the country. A fun family day setting on hay bale listening to music in the country.
X-ALT-DESC;FMTTYPE=text/html:Lavender is in full bloom\, we will have vendors\, music\, food\, wine in the country. A fun family day setting on hay bale listening to music in the country.
LOCATION:48 Robertson School Road Hoquiam. Mile Post 8 Ocean Beach Road.
UID:e.26.6400
SEQUENCE:3
DTSTAMP:20260426T015622Z
URL:https://chamber.graysharbor.org/events/details/dales-lavender-valley-festival-6400
END:VEVENT

END:VCALENDAR
