BEGIN:VCALENDAR
VERSION:2.0
PRODID:-//ChamberMaster//Event Calendar 2.0//EN
METHOD:PUBLISH
X-PUBLISHED-TTL:P3D
REFRESH-INTERVAL:P3D
CALSCALE:GREGORIAN
BEGIN:VEVENT
DTSTART:20190421T020000Z
DTEND:20190421T053000Z
X-MICROSOFT-CDO-ALLDAYEVENT:FALSE
SUMMARY:Dance Club of Grays Harbor
DESCRIPTION:Dance Club of Grays Harbor's monthly dance at the Hoquiam Elks. Free dance lesson by Arlene Hoiland from 7-8pm. Dance to the live music of Michael & Leslie from 8-10:30pm. Silent auction during the break. Food and beverages available through the Elks.
X-ALT-DESC;FMTTYPE=text/html:Dance Club of Grays Harbor&#39\;s monthly dance at the Hoquiam Elks. Free dance lesson by Arlene Hoiland from 7-8pm. Dance to the live music of Michael &amp\; Leslie from 8-10:30pm. Silent auction during the break. Food and beverages available through the Elks.
LOCATION:Hoquiam Elks 624 K Street\, Hoquiam
UID:e.26.11960
SEQUENCE:3
DTSTAMP:20260424T165547Z
URL:https://chamber.graysharbor.org/events/details/dance-club-of-grays-harbor-04-20-2019-11960
END:VEVENT

END:VCALENDAR
