BEGIN:VCALENDAR
VERSION:2.0
PRODID:-//ChamberMaster//Event Calendar 2.0//EN
METHOD:PUBLISH
X-PUBLISHED-TTL:P3D
REFRESH-INTERVAL:P3D
CALSCALE:GREGORIAN
BEGIN:VEVENT
DTSTART:20170521T020000Z
DTEND:20170521T053000Z
X-MICROSOFT-CDO-ALLDAYEVENT:FALSE
SUMMARY:Dance Club of Grays Harbor
DESCRIPTION:Dance Club of Grays Harbor monthly dance at the Hoquiam Masonic Hall\, 724 K Street\, Hoquiam. Arlene Hoiland will teach a free Night Club Two-Step lesson from 7-8pm. Dance to the live music of Michael & Leslie from 8-10:30pm. Members $9\; non-members $12
X-ALT-DESC;FMTTYPE=text/html:Dance Club of Grays Harbor monthly dance at the Hoquiam Masonic Hall\, 724 K Street\, Hoquiam. Arlene Hoiland will teach a free Night Club Two-Step lesson from 7-8pm. Dance to the live music of Michael &amp\; Leslie from 8-10:30pm. Members $9\; non-members $12
LOCATION:Hoquiam Masonic Hall\, 724 K Street (8th & K)\, Hoquiam
UID:e.26.7679
SEQUENCE:3
DTSTAMP:20260426T033143Z
URL:https://chamber.graysharbor.org/events/details/dance-club-of-grays-harbor-05-20-2017-7679
END:VEVENT

END:VCALENDAR
