BEGIN:VCALENDAR
VERSION:2.0
PRODID:-//ChamberMaster//Event Calendar 2.0//EN
METHOD:PUBLISH
X-PUBLISHED-TTL:P3D
REFRESH-INTERVAL:P3D
CALSCALE:GREGORIAN
BEGIN:VEVENT
DTSTART:20181118T030000Z
DTEND:20181118T063000Z
X-MICROSOFT-CDO-ALLDAYEVENT:FALSE
SUMMARY:Dance Club of Grays Harbor
DESCRIPTION:Dance Club of Grays Harbor's monthly dance at the Hoquiam Elks\, 624 K Street. Live music by Randy Litch. Free dance lesson 7-8pm is Waltz\, taught by Arlene Hoiland. Dance begins at 8pm. Cost $10 per person. Adults only please. Food and beverages available from the Hoquiam Elks
X-ALT-DESC;FMTTYPE=text/html:Dance Club of Grays Harbor's monthly dance at the Hoquiam Elks\, 624 K Street. Live music by Randy Litch. Free dance lesson 7-8pm is Waltz\, taught by Arlene Hoiland. Dance begins at 8pm. Cost $10 per person. Adults only please. Food and beverages available from the Hoquiam Elks
LOCATION:Hoquiam Elks\, 624 K Street\, Hoquiam
UID:e.26.11316
SEQUENCE:3
DTSTAMP:20260424T224616Z
URL:https://chamber.graysharbor.org/events/details/dance-club-of-grays-harbor-11-17-2018-11316
END:VEVENT

END:VCALENDAR
