BEGIN:VCALENDAR
VERSION:2.0
PRODID:-//ChamberMaster//Event Calendar 2.0//EN
METHOD:PUBLISH
X-PUBLISHED-TTL:P3D
REFRESH-INTERVAL:P3D
CALSCALE:GREGORIAN
BEGIN:VEVENT
DTSTART:20171217T030000Z
DTEND:20171217T063000Z
X-MICROSOFT-CDO-ALLDAYEVENT:FALSE
SUMMARY:Dance Club of Grays Harbor
DESCRIPTION:Dance Club of Grays Harbor monthly dance at the Hoquiam Elks\, 624 K Street\, Hoquiam. Arlene Hoiland will teach a free Foxtrot lesson from 7-8pm. Dance to the live music of Michael & Leslie from 8-10:30pm. Members $9\; non-members $12
X-ALT-DESC;FMTTYPE=text/html:Dance Club of Grays Harbor monthly dance at the Hoquiam Elks\, 624 K Street\, Hoquiam. Arlene Hoiland will teach a free Foxtrot lesson from 7-8pm. Dance to the live music of Michael &amp\; Leslie from 8-10:30pm. Members $9\; non-members $12
LOCATION:Hoquiam Elks\, 624 K Street\, Hoquiam
UID:e.26.8386
SEQUENCE:3
DTSTAMP:20260425T164210Z
URL:https://chamber.graysharbor.org/events/details/dance-club-of-grays-harbor-12-16-2017-8386
END:VEVENT

END:VCALENDAR
