BEGIN:VCALENDAR
VERSION:2.0
PRODID:-//ChamberMaster//Event Calendar 2.0//EN
METHOD:PUBLISH
X-PUBLISHED-TTL:P3D
REFRESH-INTERVAL:P3D
CALSCALE:GREGORIAN
BEGIN:VEVENT
DTSTART:20200216T030000Z
DTEND:20200216T063000Z
X-MICROSOFT-CDO-ALLDAYEVENT:FALSE
SUMMARY:Dance Club of Grays Harbor dance
DESCRIPTION:Dance Club of Grays Harbor's 12th Anniversary dance at the Hoquiam Elks. Free Rumba dance lesson from 7-8 by Arlene Hoiland. Dance to Michael & Leslie from 8-10:30. Cost $10. Food and beverages available through the Elks.
X-ALT-DESC;FMTTYPE=text/html:Dance Club of Grays Harbor&#39\;s 12th Anniversary dance at the Hoquiam Elks. Free Rumba dance lesson from 7-8 by Arlene Hoiland. Dance to Michael &amp\; Leslie from 8-10:30. Cost $10. Food and beverages available through the Elks.
LOCATION:Hoquiam Elks\, 624 K Street
UID:e.26.12416
SEQUENCE:3
DTSTAMP:20260424T060341Z
URL:https://chamber.graysharbor.org/events/details/dance-club-of-grays-harbor-dance-02-15-2020-12416
END:VEVENT

END:VCALENDAR
