BEGIN:VCALENDAR
VERSION:2.0
PRODID:-//ChamberMaster//Event Calendar 2.0//EN
METHOD:PUBLISH
X-PUBLISHED-TTL:P3D
REFRESH-INTERVAL:P3D
CALSCALE:GREGORIAN
BEGIN:VEVENT
DTSTART:20191117T030000Z
DTEND:20191117T063000Z
X-MICROSOFT-CDO-ALLDAYEVENT:FALSE
SUMMARY:Dance Club of Grays Harbor Dance
DESCRIPTION:Dance Club of Grays Harbor's monthly ballroom dance at the Hoquiam Elks\, 624 K Street. Free dance lesson 7-8pm. Dance from 8-10:30pm with live music by Randy Litch. Silent auction during the dance.
X-ALT-DESC;FMTTYPE=text/html:<span style="font-family:arial\;"><span style="font-size:14px\;">Dance Club of Grays Harbor&#39\;s monthly ballroom dance at the Hoquiam Elks\, 624 K Street. Free dance lesson 7-8pm. Dance from 8-10:30pm with live music by Randy Litch. Silent auction during the dance.</span></span>
LOCATION:Hoquiam Elks 624 K Street
UID:e.26.12287
SEQUENCE:3
DTSTAMP:20260424T042337Z
URL:https://chamber.graysharbor.org/events/details/dance-club-of-grays-harbor-dance-11-16-2019-12287
END:VEVENT

END:VCALENDAR
